Workbook

Sheet Organics_Compost
A1: 3.2: ORGANICS DIVERSION
A2: 1) DIVERSION POTENTIAL
B4: Waste Diversion Analyses
B5: Scenario | C5: Explanation
B6: O1 | C6: Includes only residential organics
B7: O2 | C7: Includes residential organics and organics from large commercial generators (0.5 tons/week or more)
B9: Timing
B10: Program Implementation | C10: 2025
B11: Design Year | C11: 2045 | D11: Year for which facilities are designed
B13: Target Waste Stream
B14: Waste Stream | D14: Scenario O1 | F14: Scenario O2 | H14: Notes
D15: Residential | E15: Commercial | F15: Residential | G15: Commercial
B16: Disposed Organics | C16: Organics (Food) | D16: =INDEX('Waste Projections'!$H$41:$AL$41,MATCH(Organics_Compost!$C$11,'Waste Projections'!$H$6:$AL$6,0))*'Waste Composition'!$G$14 -> 15289.236 | E16: 0 | F16: =D16 -> 15289.236 | G16: =INDEX('Waste Projections'!$H$47:$AL$47,MATCH(Organics_Compost!$C$11,'Waste Projections'!$H$45:$AL$45,0)) -> 16838.5
C17: Organics (Other) | D17: =INDEX('Waste Projections'!$H$41:$AL$41,MATCH(Organics_Compost!$C$11,'Waste Projections'!$H$6:$AL$6,0))*'Waste Composition'!$G$15 -> 7644.618 | E17: 0 | F17: =D17 -> 7644.618 | G17: 0
C18: Compostable Paper | D18: =INDEX('Waste Projections'!$H$41:$AL$41,MATCH(Organics_Compost!$C$11,'Waste Projections'!$H$6:$AL$6,0))*'Waste Composition'!$G$16 -> 7644.618 | E18: 0 | F18: =D18 -> 7644.618 | G18: 0
C19: SUBTOTAL | D19: =SUM(D16:D18) -> 30578.472 | E19: =SUM(E16:E18) -> 0 | F19: =SUM(F16:F18) -> 30578.472 | G19: =SUM(G16:G18) -> 16838.5
C20: TOTAL | D20: =SUM(D19:E19) -> 30578.472 | F20: =SUM(F19:G19) -> 47416.972
B22: Expected Diversion rates
B23: Food Waste Goals (BFWRS) | C23: Diversion Goals | E23: Notes
C24: O1 | D24: O2 | E24: Any food waste/organics diversion goals? Or should these be based on what we think is achievable?
B25: Commercial | C25: 0 | D25: 1
B26: Residential | C26: 1 | D26: 1
B28: Expected Diversion (tons)
B29: Organic Waste | C29: Scenario
C30: O1 | D30: O2
B31: Organics (Food) | C31: =$C$25*E16+$C$26*D16 -> 15289.236 | D31: =$D$25*G16+$D$26*F16 -> 32127.736
B32: Organics (Other) | C32: =$C$25*E17+$C$26*D17 -> 7644.618 | D32: =$D$25*G17+$D$26*F17 -> 7644.618
B33: Compostable Paper | C33: =$C$25*E18+$C$26*D18 -> 7644.618 | D33: =$D$25*G18+$D$26*F18 -> 7644.618
B34: TOTAL | C34: =SUM(C31:C33) -> 30578.472 | D34: =SUM(D31:D33) -> 47416.972
A37: 2) COMPOSTING COSTS
B39: Composting Facility Assumptions
B40: Parameter | C40: Value | D40: Units | E40: Notes
B41: Capacity (Organic Feedstock) | C41: 20000 | D41: Tons/year | E41: Based on typical compost facilities in Maryland as reported by MDE (2017)
B42: Fraction Organics from SSO | C42: 0.7 | D42: % | E42: Assumes addition of some bulking agents to generate high quality compost
B43: Operating Days | C43: 260 | D43: Days/Year | E43: Assumes 5-days a week, 52 weeks a year
B44: Operating Hours | C44: 8 | D44: Hours/Day | E44: Assumes 40-hr work week
B45: Parcel Size | C45: 4 | D45: Acres | E45: Assumes 2-acres active composting area for 100-ton/day facility and 40% land use for active composting (Savage 2008) - https://www.biocycle.net/2008/03/19/calculating-capacity-at-composting-sites/
B46: Mass Organics to Compost | C46: 0.33 | D46: % | E46: SWOLF - NC State University - https://jwlevis.wixsite.com/swolf
B47: Mass Organics to Residual | C47: 0.24 | D47: % | E47: SWOLF - NC State University - https://jwlevis.wixsite.com/swolf
B48: Compost Unit Weight | C48: 0.4 | D48: tons/cy | E48: SWOLF - NC State University - https://jwlevis.wixsite.com/swolf
...

Sheet Organics_AD
A1: 3.2: ORGANICS DIVERSION
A2: 1) DIVERSION POTENTIAL
B4: Waste Diversion Analyses
B5: Scenario | C5: Explanation
B6: O1 | C6: Includes only residential organics
B7: O2 | C7: Includes residential organics and organics from large commercial generators (0.5 tons/week or more)
B9: Timing
B10: Program Implementation | C10: 2025
B11: Design Year | C11: 2045 | D11: Year for which facilities are designed
B13: Target Waste Stream
B14: Waste Stream | D14: Scenario O1 | F14: Scenario O2 | H14: Notes
D15: Residential | E15: Commercial | F15: Residential | G15: Commercial
B16: Disposed Organics | C16: Organics (Food) | D16: =INDEX('Waste Projections'!$H$41:$AL$41,MATCH(Organics_AD!$C$11,'Waste Projections'!$H$6:$AL$6,0))*'Waste Composition'!$G$14 -> 15289.236 | E16: 0 | F16: =D16 -> 15289.236 | G16: =INDEX('Waste Projections'!$H$47:$AL$47,MATCH(Organics_AD!$C$11,'Waste Projections'!$H$45:$AL$45,0)) -> 16838.5
C17: Organics (Other) | D17: =INDEX('Waste Projections'!$H$41:$AL$41,MATCH(Organics_AD!$C$11,'Waste Projections'!$H$6:$AL$6,0))*'Waste Composition'!$G$15 -> 7644.618 | E17: 0 | F17: =D17 -> 7644.618 | G17: 0
C18: Compostable Paper | D18: =INDEX('Waste Projections'!$H$41:$AL$41,MATCH(Organics_AD!$C$11,'Waste Projections'!$H$6:$AL$6,0))*'Waste Composition'!$G$16 -> 7644.618 | E18: 0 | F18: =D18 -> 7644.618 | G18: 0
C19: SUBTOTAL | D19: =SUM(D16:D18) -> 30578.472 | E19: =SUM(E16:E18) -> 0 | F19: =SUM(F16:F18) -> 30578.472 | G19: =SUM(G16:G18) -> 16838.5
C20: TOTAL | D20: =SUM(D19:E19) -> 30578.472 | F20: =SUM(F19:G19) -> 47416.972
B22: Expected Diversion rates
B23: Food Waste Goals (BFWRS) | C23: Diversion Goals | E23: Notes
C24: O1 | D24: O2 | E24: Any food waste/organics diversion goals? Or should these be based on what we think is achievable?
B25: Commercial | C25: 0 | D25: 1
B26: Residential | C26: 1 | D26: 1
B28: Expected Diversion (tons)
B29: Organic Waste | C29: Scenario
C30: O1 | D30: O2
B31: Organics (Food) | C31: =$C$25*E16+$C$26*D16 -> 15289.236 | D31: =$D$25*G16+$D$26*F16 -> 32127.736
B32: Organics (Other) | C32: =$C$25*E17+$C$26*D17 -> 7644.618 | D32: =$D$25*G17+$D$26*F17 -> 7644.618
B33: Compostable Paper | C33: =$C$25*E18+$C$26*D18 -> 7644.618 | D33: =$D$25*G18+$D$26*F18 -> 7644.618
B34: TOTAL | C34: =SUM(C31:C33) -> 30578.472 | D34: =SUM(D31:D33) -> 47416.972
A37: 2) ANAEROBIC DIGESTION COSTS
B39: AD Facility Assumptions
C40: O1 | D40: O2
B41: Parameter | C41: Value | D41: Value | E41: Units | F41: Notes
B42: Capacity (Organic Feedstock) | C42: =1.2*D20 -> 36694.166 | D42: =1.2*F20 -> 56900.366 | E42: Tons/year | F42: 120% of maximum expected throughput
B43: Maximum Throughput | C43: =D20 -> 30578.472 | D43: =F20 -> 47416.972 | E43: Tons/year | F43: Based on baseline year
B44: CAPEX | C44: 600 | D44: 600 | E44: $/ton | F44: NREL (2013) - https://www.nrel.gov/docs/fy13osti/57082.pdf
B45: OPEX | C45: 70 | D45: 70 | E45: $/ton/year | F45: Olivard (2017) - Feasibility study of running an anerobic digestion plant coupled with a combined heat and power plant near Paris, France processing 50,000 tons of food waste per year (https://pdfs.semanticscholar.org/b1c6/d3969e79ace2df77b38f0a8da5bb59e19579.pdf)
B46: Mass Fraction Rejected | C46: 0.2 | D46: 0.2 | F46: Cecchi et al. (2011) - Mass and Energy Balances around full scale plants for food waste anaerobic digestion (http://www.valorgas.soton.ac.uk/Pub_docs/IWA%20Vienna%202011/Presentation%203%20Bolzonella%20Mass%20&%20Energy%20balance%20VALORGAS%20ADSWEC%20Vienna%202011.pdf)
B47: Mass Fraction to Residual | C47: 0.3 | D47: 0.3 | F47: NREL (2013) - https://www.nrel.gov/docs/fy13osti/57082.pdf
B48: Energy Production | C48: 220 | D48: 220 | E48: kWh/ton-input | F48: NREL (2013) - https://www.nrel.gov/docs/fy13osti/57082.pdf
...

Sheet Summary
A1: Summary of GHG Emissions
A2: Option | B2: Description | C2: GHG Emissions - Transportation (MTCO2e) | D2: GHG Emissions - Disposal/Processing (MTCO2e) | E2: GHG Emissions - Total (MTCO2e)
A3: 1 | B3: Baseline | C3: ='1.Baseline'!$P$42 -> 293.97592 | D3: ='1.Baseline'!$II$28 -> 5358.33 | E3: =SUM(C3:D3) -> 5652.3059
A4: 2 | B4: YTS Rail Transfer | C4: ='2. YTS Rail'!$S$42 -> 2587.7169 | D4: ='2. YTS Rail'!$IL$27 -> 1197.1689 | E4: =SUM(C4:D4) -> 3784.8858
A5: 3 | B5: UCRTS Rail Transfer | C5: ='3. UCRTS Rail'!$S$42 -> 2603.9334 | D5: ='3. UCRTS Rail'!$IL$27 -> 1197.1689 | E5: =SUM(C5:D5) -> 3801.1023
A6: 4 | B6: YTS and UCRTS Rail Transfer | C6: ='4. YTS and UCRTS Rail'!$S$42 -> 2536.7246 | D6: ='4. YTS and UCRTS Rail'!$IL$27 -> 1197.1689 | E6: =SUM(C6:D6) -> 3733.8936
A7: 5 | B7: YTS and UCRTS + Backyard Compost | C7: ='5. YTS UCRTS+Backyard Compost'!$S$42 -> 1828.595 | D7: ='5. YTS UCRTS+Backyard Compost'!$IL$27 -> -6079.9215 | E7: =SUM(C7:D7) -> -4251.3266
A8: 6 | B8: YTS and UCRTS + Decentralized Compost | C8: ='6. YTS UCRTS+Decentral Compost'!$U$42 -> 1879.7577 | D8: ='6. YTS UCRTS+Decentral Compost'!$IN$27 -> -6079.9215 | E8: =SUM(C8:D8) -> -4200.1638

Sheet 1.Baseline
A1: Year of Interest | B1: 2025
A3: Waste Flow | L3: Transportation (ton-miles) | P3: GHG Emissions (MTCO2e) - Transportation | U3: Total Waste Composition (tons) | AL3: Fraction Source Reduced | BC3: Fraction Recycled | BT3: Fraction Landfilled | CK3: Fraction Combusted - WTE | DB3: Fraction Composted | DS3: Fraction Anaerobically Digested | EJ3: Source Reduced (tons) | FA3: Recycled (tons) | FR3: Landfilled (tons) | GI3: Combusted (tons) | GZ3: Composted (tons) | HQ3: Anaerobic Digestion (tons) | IH3: WARM Input (tons)
A4: Municipality | B4: MSW Disposal tons | C4: Disposal Facility | D4: Transfer Facility 1 | E4: Transfer Facility 2 | F4: Distance to Transfer Facility 1 | G4: Transportation to TS1 | H4: Distance to Transfer Facility 2 | I4: Transportation to TS2 | J4: Distance to Disposal Facility | K4: Transportation to Disposal | L4: Garbage Truck | M4: Transfer Truck | N4: Barge | O4: Rail | P4: Garbage Truck | Q4: Transfer Truck | R4: Barge | S4: Rail | U4: Corrugated Containers | V4: Mixed Paper (primarily residential) | W4: Food Waste | X4: Yard Trimmings | Y4: HDPE | Z4: PET | AA4: PS | AB4: Mixed Plastics | AC4: Mixed Electronics | AD4: Aluminum Cans | AE4: Mixed Metals | AF4: Glass | AG4: Concrete | AH4: Tires | AI4: Mixed Recyclables | AJ4: Mixed MSW | AL4: Corrugated Containers | AM4: Mixed Paper (primarily residential) | AN4: Food Waste | AO4: Yard Trimmings | AP4: HDPE | AQ4: PET | AR4: PS | AS4: Mixed Plastics | AT4: Mixed Electronics | AU4: Aluminum Cans | AV4: Mixed Metals | AW4: Glass | AX4: Concrete | AY4: Tires | AZ4: Mixed Recyclables | BA4: Mixed MSW | BC4: Corrugated Containers | BD4: Mixed Paper (primarily residential) | BE4: Food Waste | BF4: Yard Trimmings | BG4: HDPE | BH4: PET | BI4: PS | BJ4: Mixed Plastics | BK4: Mixed Electronics | BL4: Aluminum Cans | BM4: Mixed Metals | BN4: Glass | BO4: Concrete | BP4: Tires | BQ4: Mixed Recyclables | BR4: Mixed MSW | BT4: Corrugated Containers | BU4: Mixed Paper (primarily residential) | BV4: Food Waste | BW4: Yard Trimmings | BX4: HDPE | BY4: PET | BZ4: PS | CA4: Mixed Plastics | CB4: Mixed Electronics | CC4: Aluminum Cans | CD4: Mixed Metals | CE4: Glass | CF4: Concrete | CG4: Tires | CH4: Mixed Recyclables | CI4: Mixed MSW | CK4: Corrugated Containers | CL4: Mixed Paper (primarily residential) | CM4: Food Waste | CN4: Yard Trimmings | CO4: HDPE | CP4: PET | CQ4: PS | CR4: Mixed Plastics | CS4: Mixed Electronics | CT4: Aluminum Cans | CU4: Mixed Metals | CV4: Glass | CW4: Concrete | CX4: Tires | CY4: Mixed Recyclables | CZ4: Mixed MSW | DB4: Corrugated Containers | DC4: Mixed Paper (primarily residential) | DD4: Food Waste | DE4: Yard Trimmings | DF4: HDPE | DG4: PET | DH4: PS | DI4: Mixed Plastics | DJ4: Mixed Electronics | DK4: Aluminum Cans | DL4: Mixed Metals | DM4: Glass | DN4: Concrete | DO4: Tires | DP4: Mixed Recyclables | DQ4: Mixed MSW | DS4: Corrugated Containers | DT4: Mixed Paper (primarily residential) | DU4: Food Waste | DV4: Yard Trimmings | DW4: HDPE | DX4: PET | DY4: PS | DZ4: Mixed Plastics | EA4: Mixed Electronics | EB4: Aluminum Cans | EC4: Mixed Metals | ED4: Glass | EE4: Concrete | EF4: Tires | EG4: Mixed Recyclables | EH4: Mixed MSW | EJ4: Corrugated Containers | EK4: Mixed Paper (primarily residential) | EL4: Food Waste | EM4: Yard Trimmings | EN4: HDPE | EO4: PET | EP4: PS | EQ4: Mixed Plastics | ER4: Mixed Electronics | ES4: Aluminum Cans | ET4: Mixed Metals | EU4: Glass | EV4: Concrete | EW4: Tires | EX4: Mixed Recyclables | EY4: Mixed MSW | FA4: Corrugated Containers | FB4: Mixed Paper (primarily residential) | FC4: Food Waste | FD4: Yard Trimmings | FE4: HDPE | FF4: PET | FG4: PS | FH4: Mixed Plastics | FI4: Mixed Electronics | FJ4: Aluminum Cans | FK4: Mixed Metals | FL4: Glass | FM4: Concrete | FN4: Tires | FO4: Mixed Recyclables | FP4: Mixed MSW | FR4: Corrugated Containers | FS4: Mixed Paper (primarily residential) | FT4: Food Waste | FU4: Yard Trimmings | FV4: HDPE | FW4: PET | FX4: PS | FY4: Mixed Plastics | FZ4: Mixed Electronics | GA4: Aluminum Cans | GB4: Mixed Metals | GC4: Glass | GD4: Concrete | GE4: Tires | GF4: Mixed Recyclables | GG4: Mixed MSW | GI4: Corrugated Containers | GJ4: Mixed Paper (primarily residential) | GK4: Food Waste | GL4: Yard Trimmings | GM4: HDPE | GN4: PET | GO4: PS | GP4: Mixed Plastics | GQ4: Mixed Electronics | GR4: Aluminum Cans | GS4: Mixed Metals | GT4: Glass | GU4: Concrete | GV4: Tires | GW4: Mixed Recyclables | GX4: Mixed MSW | GZ4: Corrugated Containers | HA4: Mixed Paper (primarily residential) | HB4: Food Waste | HC4: Yard Trimmings | HD4: HDPE | HE4: PET | HF4: PS | HG4: Mixed Plastics | HH4: Mixed Electronics | HI4: Aluminum Cans | HJ4: Mixed Metals | HK4: Glass | HL4: Concrete | HM4: Tires | HN4: Mixed Recyclables | HO4: Mixed MSW | HQ4: Corrugated Containers | HR4: Mixed Paper (primarily residential) | HS4: Food Waste | HT4: Yard Trimmings | HU4: HDPE | HV4: PET | HW4: PS | HX4: Mixed Plastics | HY4: Mixed Electronics | HZ4: Aluminum Cans | IA4: Mixed Metals | IB4: Glass | IC4: Concrete | ID4: Tires | IE4: Mixed Recyclables | IF4: Mixed MSW | IH4: WARM Category | II4: Source Reduced | IJ4: Recycled | IK4: Landfilled | IL4: Combusted | IM4: Composted | IN4: Co-Composted1 | IP4: Landfilled - Flare IWSM | IQ4: Landfilled - LFGTE
A5: Barnstable | B5: =INDEX('Waste Projections'!$H7:$AL7,MATCH('1.Baseline'!$B$1,'Waste Projections'!$H$6:$AL$6,0)) -> 8674.74 | C5: Crapo Hill Landfill | D5: N/A | E5: N/A | F5: 0 | G5: N/A | H5: 0 | I5: =IF(E5="N/A","N/A","Transfer Truck") -> N/A | J5: 55.2 | K5: Transfer Truck | L5: =(IF($G5=L$4,$F5,0)+IF($I5=L$4,$H5,0)+IF($K5=L$4,$J5,0))*$B5 -> 0 | M5: =(IF($G5=M$4,$F5,0)+IF($I5=M$4,$H5,0)+IF($K5=M$4,$J5,0))*$B5 -> 478845.65 | N5: =(IF($G5=N$4,$F5,0)+IF($I5=N$4,$H5,0)+IF($K5=N$4,$J5,0))*$B5 -> 0 | O5: =(IF($G5=O$4,$F5,0)+IF($I5=O$4,$H5,0)+IF($K5=O$4,$J5,0))*$B5 -> 0 | P5: =INDEX('Transportation GHG'!$B$21:$B$24,MATCH('1.Baseline'!P$4,'Transportation GHG'!$A$21:$A$24,0))*L5 -> 0 | Q5: =INDEX('Transportation GHG'!$B$21:$B$24,MATCH('1.Baseline'!Q$4,'Transportation GHG'!$A$21:$A$24,0))*M5 -> 42.956138 | R5: =INDEX('Transportation GHG'!$B$21:$B$24,MATCH('1.Baseline'!R$4,'Transportation GHG'!$A$21:$A$24,0))*N5 -> 0 | S5: =INDEX('Transportation GHG'!$B$21:$B$24,MATCH('1.Baseline'!S$4,'Transportation GHG'!$A$21:$A$24,0))*O5 -> 0 | U5: =INDEX('Waste Composition'!$P$5:$P$20,MATCH('1.Baseline'!U$4,'Waste Composition'!$O$5:$O$20,0))*$B5 -> 346.9896 | V5: =INDEX('Waste Composition'!$P$5:$P$20,MATCH('1.Baseline'!V$4,'Waste Composition'!$O$5:$O$20,0))*$B5 -> 1474.7058 | W5: =INDEX('Waste Composition'!$P$5:$P$20,MATCH('1.Baseline'!W$4,'Waste Composition'!$O$5:$O$20,0))*$B5 -> 1561.4532 | X5: =INDEX('Waste Composition'!$P$5:$P$20,MATCH('1.Baseline'!X$4,'Waste Composition'!$O$5:$O$20,0))*$B5 -> 780.7266 | Y5: =INDEX('Waste Composition'!$P$5:$P$20,MATCH('1.Baseline'!Y$4,'Waste Composition'!$O$5:$O$20,0))*$B5 -> 130.1211 | Z5: =INDEX('Waste Composition'!$P$5:$P$20,MATCH('1.Baseline'!Z$4,'Waste Composition'!$O$5:$O$20,0))*$B5 -> 216.8685 | AA5: =INDEX('Waste Composition'!$P$5:$P$20,MATCH('1.Baseline'!AA$4,'Waste Composition'!$O$5:$O$20,0))*$B5 -> 43.3737 | AB5: =INDEX('Waste Composition'!$P$5:$P$20,MATCH('1.Baseline'!AB$4,'Waste Composition'!$O$5:$O$20,0))*$B5 -> 650.6055 | ... AJ5: =INDEX('Waste Composition'!$P$5:$P$20,MATCH('1.Baseline'!AJ$4,'Waste Composition'!$O$5:$O$20,0))*$B5 -> 693.9792 | AL5: 0 | AM5: 0 | AN5: 0 | AO5: 0 | AP5: 0 | AQ5: 0 | AR5: 0 | AS5: 0 | AT5: 0 | AU5: 0 | AV5: 0 | AW5: 0 | AX5: 0 | AY5: 0 | AZ5: 0 | BA5: 0 | BC5: 0 | BD5: 0 | BE5: 0 | BF5: 0 | BG5: 0 | BH5: 0 | BI5: 0 | BJ5: 0 | BK5: 0 | BL5: 0 | BM5: 0 | BN5: 0 | BO5: 0 | BP5: 0 | BQ5: 0 | BR5: 0 | BT5: 1 | BU5: 1 | BV5: 1 | BW5: 1 | BX5: 1 | BY5: 1 | BZ5: 1 | CA5: 1 | CB5: 1 | CC5: 1 | CD5: 1 | CE5: 1 | CF5: 1 | CG5: 1 | CH5: 1 | CI5: 1 | CK5: 0 | CL5: 0 | CM5: 0 | CN5: 0 | CO5: 0 | CP5: 0 | CQ5: 0 | CR5: 0 | CS5: 0 | CT5: 0 | CU5: 0 | CV5: 0 | CW5: 0 | CX5: 0 | CY5: 0 | CZ5: 0 | DB5: 0 | DC5: 0 | DD5: 0 | DE5: 0 | DF5: 0 | DG5: 0 | DH5: 0 | DI5: 0 | DJ5: 0 | DK5: 0 | DL5: 0 | DM5: 0 | DN5: 0 | DO5: 0 | DP5: 0 | DQ5: 0 | DS5: 0 | DT5: 0 | DU5: 0 | DV5: 0 | DW5: 0 | DX5: 0 | DY5: 0 | DZ5: 0 | EA5: 0 | EB5: 0 | EC5: 0 | ED5: 0 | EE5: 0 | EF5: 0 | EG5: 0 | EH5: 0 | EJ5: =$U$5*AL5 -> 0 | EK5: =$V$5*AM5 -> 0 | EL5: =$W$5*AN5 -> 0 | EM5: =$X$5*AO5 -> 0 | EN5: =$Y$5*AP5 -> 0 | EO5: =$Z$5*AQ5 -> 0 | EP5: =$AA$5*AR5 -> 0 | EQ5: =$AB$5*AS5 -> 0 | ER5: =$AC$5*AT5 -> 0 | ES5: =$AD$5*AU5 -> 0 | ET5: =$AE$5*AV5 -> 0 | EU5: =$AF$5*AW5 -> 0 | EV5: =$AG$5*AX5 -> 0 | EW5: =$AH$5*AY5 -> 0 | EX5: =$AI$5*AZ5 -> 0 | EY5: =$AJ$5*BA5 -> 0 | FA5: =$U$5*BC5 -> 0 | FB5: =$V$5*BD5 -> 0 | FC5: =$W$5*BE5 -> 0 | FD5: =$X$5*BF5 -> 0 | FE5: =$Y$5*BG5 -> 0 | FF5: =$Z$5*BH5 -> 0 | FG5: =$AA$5*BI5 -> 0 | FH5: =$AB$5*BJ5 -> 0 | FI5: =$AC$5*BK5 -> 0 | FJ5: =$AD$5*BL5 -> 0 | FK5: =$AE$5*BM5 -> 0 | FL5: =$AF$5*BN5 -> 0 | FM5: =$AG$5*BO5 -> 0 | FN5: =$AH$5*BP5 -> 0 | FO5: =$AI$5*BQ5 -> 0 | FP5: =$AJ$5*BR5 -> 0 | FR5: =$U$5*BT5 -> 346.9896 | FS5: =$V$5*BU5 -> 1474.7058 | FT5: =$W$5*BV5 -> 1561.4532 | FU5: =$X$5*BW5 -> 780.7266 | FV5: =$Y$5*BX5 -> 130.1211 | FW5: =$Z$5*BY5 -> 216.8685 | FX5: =$AA$5*BZ5 -> 43.3737 | FY5: =$AB$5*CA5 -> 650.6055 | FZ5: =$AC$5*CB5 -> 86.7474 | GA5: =$AD$5*CC5 -> 86.7474 | GB5: =$AE$5*CD5 -> 216.8685 | GC5: =$AF$5*CE5 -> 260.2422 | GD5: =$AG$5*CF5 -> 1040.9688 | GE5: =$AH$5*CG5 -> 43.3737 | GF5: =$AI$5*CH5 -> 1040.9688 | GG5: =$AJ$5*CI5 -> 693.9792 | GI5: =$U$5*CK5 -> 0 | GJ5: =$V$5*CL5 -> 0 | GK5: =$W$5*CM5 -> 0 | GL5: =$X$5*CN5 -> 0 | GM5: =$Y$5*CO5 -> 0 | GN5: =$Z$5*CP5 -> 0 | GO5: =$AA$5*CQ5 -> 0 | GP5: =$AB$5*CR5 -> 0 | GQ5: =$AC$5*CS5 -> 0 | GR5: =$AD$5*CT5 -> 0 | GS5: =$AE$5*CU5 -> 0 | GT5: =$AF$5*CV5 -> 0 | GU5: =$AG$5*CW5 -> 0 | GV5: =$AH$5*CX5 -> 0 | GW5: =$AI$5*CY5 -> 0 | GX5: =$AJ$5*CZ5 -> 0 | GZ5: =$U$5*DB5 -> 0 | HA5: =$V$5*DC5 -> 0 | HB5: =$W$5*DD5 -> 0 | HC5: =$X$5*DE5 -> 0 | HD5: =$Y$5*DF5 -> 0 | HE5: =$Z$5*DG5 -> 0 | HF5: =$AA$5*DH5 -> 0 | HG5: =$AB$5*DI5 -> 0 | HH5: =$AC$5*DJ5 -> 0 | HI5: =$AD$5*DK5 -> 0 | HJ5: =$AE$5*DL5 -> 0 | HK5: =$AF$5*DM5 -> 0 | HL5: =$AG$5*DN5 -> 0 | HM5: =$AH$5*DO5 -> 0 | HN5: =$AI$5*DP5 -> 0 | HO5: =$AJ$5*DQ5 -> 0 | HQ5: =$U$5*DS5 -> 0 | HR5: =$V$5*DT5 -> 0 | HS5: =$W$5*DU5 -> 0 | HT5: =$X$5*DV5 -> 0 | HU5: =$Y$5*DW5 -> 0 | HV5: =$Z$5*DX5 -> 0 | HW5: =$AA$5*DY5 -> 0 | HX5: =$AB$5*DZ5 -> 0 | HY5: =$AC$5*EA5 -> 0 | HZ5: =$AD$5*EB5 -> 0 | IA5: =$AE$5*EC5 -> 0 | IB5: =$AF$5*ED5 -> 0 | IC5: =$AG$5*EE5 -> 0 | ID5: =$AH$5*EF5 -> 0 | IE5: =$AI$5*EG5 -> 0 | IF5: =$AJ$5*EH5 -> 0 | IH5: Corrugated Containers | II5: =INDEX($EJ$39:$EY$39,MATCH($IH5,$EJ$4:$EY$4,0)) -> 0 | IJ5: =INDEX($FA$39:$FP$39,MATCH($IH5,$FA$4:$FP$4,0)) -> 0 | IK5: =INDEX($FR$39:$GG$39,MATCH($IH5,$FR$4:$GG$4,0)) -> 1566.2623 | IL5: =INDEX($GI$39:$GX$39,MATCH($IH5,$GI$4:$GX$4,0)) -> 1375.4348 | IM5: =INDEX($GZ$39:$HO$39,MATCH($IH5,$GZ$4:$HO$4,0)) -> 0 | IN5: =INDEX($HQ$39:$IF$39,MATCH($IH5,$HQ$4:$IF$4,0)) -> 0 | IP5: =INDEX($FR$6:$GG$6,MATCH(IH5,$FR$4:$GG$4,0))+INDEX($FR$12:$GG$12,MATCH(IH5,$FR$4:$GG$4,0)) -> 573.9072 | IQ5: =IK5-IP5 -> 992.35513
A6: Bourne | B6: =INDEX('Waste Projections'!$H8:$AL8,MATCH('1.Baseline'!$B$1,'Waste Projections'!$H$6:$AL$6,0)) -> 2837.35 | C6: ISWM Facility | D6: Bourne IWMS | E6: N/A | F6: 3.5 | G6: Garbage Truck | H6: 0 | I6: =IF(E6="N/A","N/A","Transfer Truck") -> N/A | J6: 0 | K6: =IF(D6="N/A","Garbage Truck","Transfer Truck") -> Transfer Truck | L6: =(IF($G6=L$4,$F6,0)+IF($I6=L$4,$H6,0)+IF($K6=L$4,$J6,0))*$B6 -> 9930.725 | M6: =(IF($G6=M$4,$F6,0)+IF($I6=M$4,$H6,0)+IF($K6=M$4,$J6,0))*$B6 -> 0 | N6: =(IF($G6=N$4,$F6,0)+IF($I6=N$4,$H6,0)+IF($K6=N$4,$J6,0))*$B6 -> 0 | O6: =(IF($G6=O$4,$F6,0)+IF($I6=O$4,$H6,0)+IF($K6=O$4,$J6,0))*$B6 -> 0 | P6: =INDEX('Transportation GHG'!$B$21:$B$24,MATCH('1.Baseline'!P$4,'Transportation GHG'!$A$21:$A$24,0))*L6 -> 1.7817248 | Q6: =INDEX('Transportation GHG'!$B$21:$B$24,MATCH('1.Baseline'!Q$4,'Transportation GHG'!$A$21:$A$24,0))*M6 -> 0 | R6: =INDEX('Transportation GHG'!$B$21:$B$24,MATCH('1.Baseline'!R$4,'Transportation GHG'!$A$21:$A$24,0))*N6 -> 0 | S6: =INDEX('Transportation GHG'!$B$21:$B$24,MATCH('1.Baseline'!S$4,'Transportation GHG'!$A$21:$A$24,0))*O6 -> 0 | U6: =INDEX('Waste Composition'!$P$5:$P$20,MATCH('1.Baseline'!U$4,'Waste Composition'!$O$5:$O$20,0))*$B6 -> 113.494 | V6: =INDEX('Waste Composition'!$P$5:$P$20,MATCH('1.Baseline'!V$4,'Waste Composition'!$O$5:$O$20,0))*$B6 -> 482.3495 | W6: =INDEX('Waste Composition'!$P$5:$P$20,MATCH('1.Baseline'!W$4,'Waste Composition'!$O$5:$O$20,0))*$B6 -> 510.723 | X6: =INDEX('Waste Composition'!$P$5:$P$20,MATCH('1.Baseline'!X$4,'Waste Composition'!$O$5:$O$20,0))*$B6 -> 255.3615 | Y6: =INDEX('Waste Composition'!$P$5:$P$20,MATCH('1.Baseline'!Y$4,'Waste Composition'!$O$5:$O$20,0))*$B6 -> 42.56025 | Z6: =INDEX('Waste Composition'!$P$5:$P$20,MATCH('1.Baseline'!Z$4,'Waste Composition'!$O$5:$O$20,0))*$B6 -> 70.93375 | AA6: =INDEX('Waste Composition'!$P$5:$P$20,MATCH('1.Baseline'!AA$4,'Waste Composition'!$O$5:$O$20,0))*$B6 -> 14.18675 | AB6: =INDEX('Waste Composition'!$P$5:$P$20,MATCH('1.Baseline'!AB$4,'Waste Composition'!$O$5:$O$20,0))*$B6 -> 212.80125 | ... AJ6: =INDEX('Waste Composition'!$P$5:$P$20,MATCH('1.Baseline'!AJ$4,'Waste Composition'!$O$5:$O$20,0))*$B6 -> 226.988 | AL6: 0 | AM6: 0 | AN6: 0 | AO6: 0 | AP6: 0 | AQ6: 0 | AR6: 0 | AS6: 0 | AT6: 0 | AU6: 0 | AV6: 0 | AW6: 0 | AX6: 0 | AY6: 0 | AZ6: 0 | BA6: 0 | BC6: 0 | BD6: 0 | BE6: 0 | BF6: 0 | BG6: 0 | BH6: 0 | BI6: 0 | BJ6: 0 | BK6: 0 | BL6: 0 | BM6: 0 | BN6: 0 | BO6: 0 | BP6: 0 | BQ6: 0 | BR6: 0 | BT6: 1 | BU6: 1 | BV6: 1 | BW6: 1 | BX6: 1 | BY6: 1 | BZ6: 1 | CA6: 1 | CB6: 1 | CC6: 1 | CD6: 1 | CE6: 1 | CF6: 1 | CG6: 1 | CH6: 1 | CI6: 1 | CK6: 0 | CL6: 0 | CM6: 0 | CN6: 0 | CO6: 0 | CP6: 0 | CQ6: 0 | CR6: 0 | CS6: 0 | CT6: 0 | CU6: 0 | CV6: 0 | CW6: 0 | CX6: 0 | CY6: 0 | CZ6: 0 | DB6: 0 | DC6: 0 | DD6: 0 | DE6: 0 | DF6: 0 | DG6: 0 | DH6: 0 | DI6: 0 | DJ6: 0 | DK6: 0 | DL6: 0 | DM6: 0 | DN6: 0 | DO6: 0 | DP6: 0 | DQ6: 0 | DS6: 0 | DT6: 0 | DU6: 0 | DV6: 0 | DW6: 0 | DX6: 0 | DY6: 0 | DZ6: 0 | EA6: 0 | EB6: 0 | EC6: 0 | ED6: 0 | EE6: 0 | EF6: 0 | EG6: 0 | EH6: 0 | EJ6: =$U$6*AL6 -> 0 | EK6: =$V$6*AM6 -> 0 | EL6: =$W$6*AN6 -> 0 | EM6: =$X$6*AO6 -> 0 | EN6: =$Y$6*AP6 -> 0 | EO6: =$Z$6*AQ6 -> 0 | EP6: =$AA$6*AR6 -> 0 | EQ6: =$AB$6*AS6 -> 0 | ER6: =$AC$6*AT6 -> 0 | ES6: =$AD$6*AU6 -> 0 | ET6: =$AE$6*AV6 -> 0 | EU6: =$AF$6*AW6 -> 0 | EV6: =$AG$6*AX6 -> 0 | EW6: =$AH$6*AY6 -> 0 | EX6: =$AI$6*AZ6 -> 0 | EY6: =$AJ$6*BA6 -> 0 | FA6: =$U$6*BC6 -> 0 | FB6: =$V$6*BD6 -> 0 | FC6: =$W$6*BE6 -> 0 | FD6: =$X$6*BF6 -> 0 | FE6: =$Y$6*BG6 -> 0 | FF6: =$Z$6*BH6 -> 0 | FG6: =$AA$6*BI6 -> 0 | FH6: =$AB$6*BJ6 -> 0 | FI6: =$AC$6*BK6 -> 0 | FJ6: =$AD$6*BL6 -> 0 | FK6: =$AE$6*BM6 -> 0 | FL6: =$AF$6*BN6 -> 0 | FM6: =$AG$6*BO6 -> 0 | FN6: =$AH$6*BP6 -> 0 | FO6: =$AI$6*BQ6 -> 0 | FP6: =$AJ$6*BR6 -> 0 | FR6: =$U$6*BT6 -> 113.494 | FS6: =$V$6*BU6 -> 482.3495 | FT6: =$W$6*BV6 -> 510.723 | FU6: =$X$6*BW6 -> 255.3615 | FV6: =$Y$6*BX6 -> 42.56025 | FW6: =$Z$6*BY6 -> 70.93375 | FX6: =$AA$6*BZ6 -> 14.18675 | FY6: =$AB$6*CA6 -> 212.80125 | FZ6: =$AC$6*CB6 -> 28.3735 | GA6: =$AD$6*CC6 -> 28.3735 | GB6: =$AE$6*CD6 -> 70.93375 | GC6: =$AF$6*CE6 -> 85.1205 | GD6: =$AG$6*CF6 -> 340.482 | GE6: =$AH$6*CG6 -> 14.18675 | GF6: =$AI$6*CH6 -> 340.482 | GG6: =$AJ$6*CI6 -> 226.988 | GI6: =$U$6*CK6 -> 0 | GJ6: =$V$6*CL6 -> 0 | GK6: =$W$6*CM6 -> 0 | GL6: =$X$6*CN6 -> 0 | GM6: =$Y$6*CO6 -> 0 | GN6: =$Z$6*CP6 -> 0 | GO6: =$AA$6*CQ6 -> 0 | GP6: =$AB$6*CR6 -> 0 | GQ6: =$AC$6*CS6 -> 0 | GR6: =$AD$6*CT6 -> 0 | GS6: =$AE$6*CU6 -> 0 | GT6: =$AF$6*CV6 -> 0 | GU6: =$AG$6*CW6 -> 0 | GV6: =$AH$6*CX6 -> 0 | GW6: =$AI$6*CY6 -> 0 | GX6: =$AJ$6*CZ6 -> 0 | GZ6: =$U$6*DB6 -> 0 | HA6: =$V$6*DC6 -> 0 | HB6: =$W$6*DD6 -> 0 | HC6: =$X$6*DE6 -> 0 | HD6: =$Y$6*DF6 -> 0 | HE6: =$Z$6*DG6 -> 0 | HF6: =$AA$6*DH6 -> 0 | HG6: =$AB$6*DI6 -> 0 | HH6: =$AC$6*DJ6 -> 0 | HI6: =$AD$6*DK6 -> 0 | HJ6: =$AE$6*DL6 -> 0 | HK6: =$AF$6*DM6 -> 0 | HL6: =$AG$6*DN6 -> 0 | HM6: =$AH$6*DO6 -> 0 | HN6: =$AI$6*DP6 -> 0 | HO6: =$AJ$6*DQ6 -> 0 | HQ6: =$U$6*DS6 -> 0 | HR6: =$V$6*DT6 -> 0 | HS6: =$W$6*DU6 -> 0 | HT6: =$X$6*DV6 -> 0 | HU6: =$Y$6*DW6 -> 0 | HV6: =$Z$6*DX6 -> 0 | HW6: =$AA$6*DY6 -> 0 | HX6: =$AB$6*DZ6 -> 0 | HY6: =$AC$6*EA6 -> 0 | HZ6: =$AD$6*EB6 -> 0 | IA6: =$AE$6*EC6 -> 0 | IB6: =$AF$6*ED6 -> 0 | IC6: =$AG$6*EE6 -> 0 | ID6: =$AH$6*EF6 -> 0 | IE6: =$AI$6*EG6 -> 0 | IF6: =$AJ$6*EH6 -> 0 | IH6: Mixed Paper (primarily residential) | II6: =INDEX($EJ$39:$EY$39,MATCH($IH6,$EJ$4:$EY$4,0)) -> 0 | IJ6: =INDEX($FA$39:$FP$39,MATCH($IH6,$FA$4:$FP$4,0)) -> 0 | IK6: =INDEX($FR$39:$GG$39,MATCH($IH6,$FR$4:$GG$4,0)) -> 6656.6149 | IL6: =INDEX($GI$39:$GX$39,MATCH($IH6,$GI$4:$GX$4,0)) -> 5845.5979 | IM6: =INDEX($GZ$39:$HO$39,MATCH($IH6,$GZ$4:$HO$4,0)) -> 0 | IN6: =INDEX($HQ$39:$IF$39,MATCH($IH6,$HQ$4:$IF$4,0)) -> 1025.7995 | IP6: =INDEX($FR$6:$GG$6,MATCH(IH6,$FR$4:$GG$4,0))+INDEX($FR$12:$GG$12,MATCH(IH6,$FR$4:$GG$4,0)) -> 2439.1056 | IQ6: =IK6-IP6 -> 4217.5093
B7: =INDEX('Waste Projections'!$H9:$AL9,MATCH('1.Baseline'!$B$1,'Waste Projections'!$H$6:$AL$6,0)) -> 2837.35 | C7: SEMASS | D7: Bourne IWMS | E7: N/A | F7: 3.5 | G7: Garbage Truck | H7: 0 | I7: =IF(E7="N/A","N/A","Transfer Truck") -> N/A | J7: 15.7 | K7: =IF(D7="N/A","Garbage Truck","Transfer Truck") -> Transfer Truck | L7: =(IF($G7=L$4,$F7,0)+IF($I7=L$4,$H7,0)+IF($K7=L$4,$J7,0))*$B7 -> 9930.725 | M7: =(IF($G7=M$4,$F7,0)+IF($I7=M$4,$H7,0)+IF($K7=M$4,$J7,0))*$B7 -> 44546.395 | N7: =(IF($G7=N$4,$F7,0)+IF($I7=N$4,$H7,0)+IF($K7=N$4,$J7,0))*$B7 -> 0 | O7: =(IF($G7=O$4,$F7,0)+IF($I7=O$4,$H7,0)+IF($K7=O$4,$J7,0))*$B7 -> 0 | P7: =INDEX('Transportation GHG'!$B$21:$B$24,MATCH('1.Baseline'!P$4,'Transportation GHG'!$A$21:$A$24,0))*L7 -> 1.7817248 | Q7: =INDEX('Transportation GHG'!$B$21:$B$24,MATCH('1.Baseline'!Q$4,'Transportation GHG'!$A$21:$A$24,0))*M7 -> 3.9961543 | R7: =INDEX('Transportation GHG'!$B$21:$B$24,MATCH('1.Baseline'!R$4,'Transportation GHG'!$A$21:$A$24,0))*N7 -> 0 | S7: =INDEX('Transportation GHG'!$B$21:$B$24,MATCH('1.Baseline'!S$4,'Transportation GHG'!$A$21:$A$24,0))*O7 -> 0 | U7: =INDEX('Waste Composition'!$P$5:$P$20,MATCH('1.Baseline'!U$4,'Waste Composition'!$O$5:$O$20,0))*$B7 -> 113.494 | V7: =INDEX('Waste Composition'!$P$5:$P$20,MATCH('1.Baseline'!V$4,'Waste Composition'!$O$5:$O$20,0))*$B7 -> 482.3495 | W7: =INDEX('Waste Composition'!$P$5:$P$20,MATCH('1.Baseline'!W$4,'Waste Composition'!$O$5:$O$20,0))*$B7 -> 510.723 | X7: =INDEX('Waste Composition'!$P$5:$P$20,MATCH('1.Baseline'!X$4,'Waste Composition'!$O$5:$O$20,0))*$B7 -> 255.3615 | Y7: =INDEX('Waste Composition'!$P$5:$P$20,MATCH('1.Baseline'!Y$4,'Waste Composition'!$O$5:$O$20,0))*$B7 -> 42.56025 | Z7: =INDEX('Waste Composition'!$P$5:$P$20,MATCH('1.Baseline'!Z$4,'Waste Composition'!$O$5:$O$20,0))*$B7 -> 70.93375 | AA7: =INDEX('Waste Composition'!$P$5:$P$20,MATCH('1.Baseline'!AA$4,'Waste Composition'!$O$5:$O$20,0))*$B7 -> 14.18675 | AB7: =INDEX('Waste Composition'!$P$5:$P$20,MATCH('1.Baseline'!AB$4,'Waste Composition'!$O$5:$O$20,0))*$B7 -> 212.80125 | ... AJ7: =INDEX('Waste Composition'!$P$5:$P$20,MATCH('1.Baseline'!AJ$4,'Waste Composition'!$O$5:$O$20,0))*$B7 -> 226.988 | AL7: 0 | AM7: 0 | AN7: 0 | AO7: 0 | AP7: 0 | AQ7: 0 | AR7: 0 | AS7: 0 | AT7: 0 | AU7: 0 | AV7: 0 | AW7: 0 | AX7: 0 | AY7: 0 | AZ7: 0 | BA7: 0 | BC7: 0 | BD7: 0 | BE7: 0 | BF7: 0 | BG7: 0 | BH7: 0 | BI7: 0 | BJ7: 0 | BK7: 0 | BL7: 0 | BM7: 0 | BN7: 0 | BO7: 0 | BP7: 0 | BQ7: 0 | BR7: 0 | BT7: 0 | BU7: 0 | BV7: 0 | BW7: 0 | BX7: 0 | BY7: 0 | BZ7: 0 | CA7: 0 | CB7: 0 | CC7: 0 | CD7: 0 | CE7: 0 | CF7: 0 | CG7: 0 | CH7: 0 | CI7: 0 | CK7: 1 | CL7: 1 | CM7: 1 | CN7: 1 | CO7: 1 | CP7: 1 | CQ7: 1 | CR7: 1 | CS7: 1 | CT7: 1 | CU7: 1 | CV7: 1 | CW7: 1 | CX7: 1 | CY7: 1 | CZ7: 1 | DB7: 0 | DC7: 0 | DD7: 0 | DE7: 0 | DF7: 0 | DG7: 0 | DH7: 0 | DI7: 0 | DJ7: 0 | DK7: 0 | DL7: 0 | DM7: 0 | DN7: 0 | DO7: 0 | DP7: 0 | DQ7: 0 | DS7: 0 | DT7: 0 | DU7: 0 | DV7: 0 | DW7: 0 | DX7: 0 | DY7: 0 | DZ7: 0 | EA7: 0 | EB7: 0 | EC7: 0 | ED7: 0 | EE7: 0 | EF7: 0 | EG7: 0 | EH7: 0 | EJ7: =$U$7*AL7 -> 0 | EK7: =$V$7*AM7 -> 0 | EL7: =$W$7*AN7 -> 0 | EM7: =$X$7*AO7 -> 0 | EN7: =$Y$7*AP7 -> 0 | EO7: =$Z$7*AQ7 -> 0 | EP7: =$AA$7*AR7 -> 0 | EQ7: =$AB$7*AS7 -> 0 | ER7: =$AC$7*AT7 -> 0 | ES7: =$AD$7*AU7 -> 0 | ET7: =$AE$7*AV7 -> 0 | EU7: =$AF$7*AW7 -> 0 | EV7: =$AG$7*AX7 -> 0 | EW7: =$AH$7*AY7 -> 0 | EX7: =$AI$7*AZ7 -> 0 | EY7: =$AJ$7*BA7 -> 0 | FA7: =$U$7*BC7 -> 0 | FB7: =$V$7*BD7 -> 0 | FC7: =$W$7*BE7 -> 0 | FD7: =$X$7*BF7 -> 0 | FE7: =$Y$7*BG7 -> 0 | FF7: =$Z$7*BH7 -> 0 | FG7: =$AA$7*BI7 -> 0 | FH7: =$AB$7*BJ7 -> 0 | FI7: =$AC$7*BK7 -> 0 | FJ7: =$AD$7*BL7 -> 0 | FK7: =$AE$7*BM7 -> 0 | FL7: =$AF$7*BN7 -> 0 | FM7: =$AG$7*BO7 -> 0 | FN7: =$AH$7*BP7 -> 0 | FO7: =$AI$7*BQ7 -> 0 | FP7: =$AJ$7*BR7 -> 0 | FR7: =$U$7*BT7 -> 0 | FS7: =$V$7*BU7 -> 0 | FT7: =$W$7*BV7 -> 0 | FU7: =$X$7*BW7 -> 0 | FV7: =$Y$7*BX7 -> 0 | FW7: =$Z$7*BY7 -> 0 | FX7: =$AA$7*BZ7 -> 0 | FY7: =$AB$7*CA7 -> 0 | FZ7: =$AC$7*CB7 -> 0 | GA7: =$AD$7*CC7 -> 0 | GB7: =$AE$7*CD7 -> 0 | GC7: =$AF$7*CE7 -> 0 | GD7: =$AG$7*CF7 -> 0 | GE7: =$AH$7*CG7 -> 0 | GF7: =$AI$7*CH7 -> 0 | GG7: =$AJ$7*CI7 -> 0 | GI7: =$U$7*CK7 -> 113.494 | GJ7: =$V$7*CL7 -> 482.3495 | GK7: =$W$7*CM7 -> 510.723 | GL7: =$X$7*CN7 -> 255.3615 | GM7: =$Y$7*CO7 -> 42.56025 | GN7: =$Z$7*CP7 -> 70.93375 | GO7: =$AA$7*CQ7 -> 14.18675 | GP7: =$AB$7*CR7 -> 212.80125 | GQ7: =$AC$7*CS7 -> 28.3735 | GR7: =$AD$7*CT7 -> 28.3735 | GS7: =$AE$7*CU7 -> 70.93375 | GT7: =$AF$7*CV7 -> 85.1205 | GU7: =$AG$7*CW7 -> 340.482 | GV7: =$AH$7*CX7 -> 14.18675 | GW7: =$AI$7*CY7 -> 340.482 | GX7: =$AJ$7*CZ7 -> 226.988 | GZ7: =$U$7*DB7 -> 0 | HA7: =$V$7*DC7 -> 0 | HB7: =$W$7*DD7 -> 0 | HC7: =$X$7*DE7 -> 0 | HD7: =$Y$7*DF7 -> 0 | HE7: =$Z$7*DG7 -> 0 | HF7: =$AA$7*DH7 -> 0 | HG7: =$AB$7*DI7 -> 0 | HH7: =$AC$7*DJ7 -> 0 | HI7: =$AD$7*DK7 -> 0 | HJ7: =$AE$7*DL7 -> 0 | HK7: =$AF$7*DM7 -> 0 | HL7: =$AG$7*DN7 -> 0 | HM7: =$AH$7*DO7 -> 0 | HN7: =$AI$7*DP7 -> 0 | HO7: =$AJ$7*DQ7 -> 0 | HQ7: =$U$7*DS7 -> 0 | HR7: =$V$7*DT7 -> 0 | HS7: =$W$7*DU7 -> 0 | HT7: =$X$7*DV7 -> 0 | HU7: =$Y$7*DW7 -> 0 | HV7: =$Z$7*DX7 -> 0 | HW7: =$AA$7*DY7 -> 0 | HX7: =$AB$7*DZ7 -> 0 | HY7: =$AC$7*EA7 -> 0 | HZ7: =$AD$7*EB7 -> 0 | IA7: =$AE$7*EC7 -> 0 | IB7: =$AF$7*ED7 -> 0 | IC7: =$AG$7*EE7 -> 0 | ID7: =$AH$7*EF7 -> 0 | IE7: =$AI$7*EG7 -> 0 | IF7: =$AJ$7*EH7 -> 0 | IH7: Food Waste | II7: =INDEX($EJ$39:$EY$39,MATCH($IH7,$EJ$4:$EY$4,0)) -> 0 | IJ7: =INDEX($FA$39:$FP$39,MATCH($IH7,$FA$4:$FP$4,0)) -> 0 | IK7: =INDEX($FR$39:$GG$39,MATCH($IH7,$FR$4:$GG$4,0)) -> 7048.1805 | IL7: =INDEX($GI$39:$GX$39,MATCH($IH7,$GI$4:$GX$4,0)) -> 6189.4566 | IM7: =INDEX($GZ$39:$HO$39,MATCH($IH7,$GZ$4:$HO$4,0)) -> 0 | IN7: =INDEX($HQ$39:$IF$39,MATCH($IH7,$HQ$4:$IF$4,0)) -> 2051.5989 | IP7: =INDEX($FR$6:$GG$6,MATCH(IH7,$FR$4:$GG$4,0))+INDEX($FR$12:$GG$12,MATCH(IH7,$FR$4:$GG$4,0)) -> 2582.5824 | IQ7: =IK7-IP7 -> 4465.5981
A8: Brewster | B8: =INDEX('Waste Projections'!$H10:$AL10,MATCH('1.Baseline'!$B$1,'Waste Projections'!$H$6:$AL$6,0)) -> 1130.62 | C8: SEMASS | D8: N/A | E8: N/A | F8: 0 | G8: N/A | H8: 0 | I8: =IF(E8="N/A","N/A","Transfer Truck") -> N/A | J8: 49.5 | K8: Transfer Truck | L8: =(IF($G8=L$4,$F8,0)+IF($I8=L$4,$H8,0)+IF($K8=L$4,$J8,0))*$B8 -> 0 | M8: =(IF($G8=M$4,$F8,0)+IF($I8=M$4,$H8,0)+IF($K8=M$4,$J8,0))*$B8 -> 55965.69 | N8: =(IF($G8=N$4,$F8,0)+IF($I8=N$4,$H8,0)+IF($K8=N$4,$J8,0))*$B8 -> 0 | O8: =(IF($G8=O$4,$F8,0)+IF($I8=O$4,$H8,0)+IF($K8=O$4,$J8,0))*$B8 -> 0 | P8: =INDEX('Transportation GHG'!$B$21:$B$24,MATCH('1.Baseline'!P$4,'Transportation GHG'!$A$21:$A$24,0))*L8 -> 0 | Q8: =INDEX('Transportation GHG'!$B$21:$B$24,MATCH('1.Baseline'!Q$4,'Transportation GHG'!$A$21:$A$24,0))*M8 -> 5.0205529 | R8: =INDEX('Transportation GHG'!$B$21:$B$24,MATCH('1.Baseline'!R$4,'Transportation GHG'!$A$21:$A$24,0))*N8 -> 0 | S8: =INDEX('Transportation GHG'!$B$21:$B$24,MATCH('1.Baseline'!S$4,'Transportation GHG'!$A$21:$A$24,0))*O8 -> 0 | U8: =INDEX('Waste Composition'!$P$5:$P$20,MATCH('1.Baseline'!U$4,'Waste Composition'!$O$5:$O$20,0))*$B8 -> 45.2248 | V8: =INDEX('Waste Composition'!$P$5:$P$20,MATCH('1.Baseline'!V$4,'Waste Composition'!$O$5:$O$20,0))*$B8 -> 192.2054 | W8: =INDEX('Waste Composition'!$P$5:$P$20,MATCH('1.Baseline'!W$4,'Waste Composition'!$O$5:$O$20,0))*$B8 -> 203.5116 | X8: =INDEX('Waste Composition'!$P$5:$P$20,MATCH('1.Baseline'!X$4,'Waste Composition'!$O$5:$O$20,0))*$B8 -> 101.7558 | Y8: =INDEX('Waste Composition'!$P$5:$P$20,MATCH('1.Baseline'!Y$4,'Waste Composition'!$O$5:$O$20,0))*$B8 -> 16.9593 | Z8: =INDEX('Waste Composition'!$P$5:$P$20,MATCH('1.Baseline'!Z$4,'Waste Composition'!$O$5:$O$20,0))*$B8 -> 28.2655 | AA8: =INDEX('Waste Composition'!$P$5:$P$20,MATCH('1.Baseline'!AA$4,'Waste Composition'!$O$5:$O$20,0))*$B8 -> 5.6531 | AB8: =INDEX('Waste Composition'!$P$5:$P$20,MATCH('1.Baseline'!AB$4,'Waste Composition'!$O$5:$O$20,0))*$B8 -> 84.7965 | ... AJ8: =INDEX('Waste Composition'!$P$5:$P$20,MATCH('1.Baseline'!AJ$4,'Waste Composition'!$O$5:$O$20,0))*$B8 -> 90.4496 | AL8: 0 | AM8: 0 | AN8: 0 | AO8: 0 | AP8: 0 | AQ8: 0 | AR8: 0 | AS8: 0 | AT8: 0 | AU8: 0 | AV8: 0 | AW8: 0 | AX8: 0 | AY8: 0 | AZ8: 0 | BA8: 0 | BC8: 0 | BD8: 0 | BE8: 0 | BF8: 0 | BG8: 0 | BH8: 0 | BI8: 0 | BJ8: 0 | BK8: 0 | BL8: 0 | BM8: 0 | BN8: 0 | BO8: 0 | BP8: 0 | BQ8: 0 | BR8: 0 | BT8: 0 | BU8: 0 | BV8: 0 | BW8: 0 | BX8: 0 | BY8: 0 | BZ8: 0 | CA8: 0 | CB8: 0 | CC8: 0 | CD8: 0 | CE8: 0 | CF8: 0 | CG8: 0 | CH8: 0 | CI8: 0 | CK8: 1 | CL8: 1 | CM8: 1 | CN8: 1 | CO8: 1 | CP8: 1 | CQ8: 1 | CR8: 1 | CS8: 1 | CT8: 1 | CU8: 1 | CV8: 1 | CW8: 1 | CX8: 1 | CY8: 1 | CZ8: 1 | DB8: 0 | DC8: 0 | DD8: 0 | DE8: 0 | DF8: 0 | DG8: 0 | DH8: 0 | DI8: 0 | DJ8: 0 | DK8: 0 | DL8: 0 | DM8: 0 | DN8: 0 | DO8: 0 | DP8: 0 | DQ8: 0 | DS8: 0 | DT8: 0 | DU8: 0 | DV8: 0 | DW8: 0 | DX8: 0 | DY8: 0 | DZ8: 0 | EA8: 0 | EB8: 0 | EC8: 0 | ED8: 0 | EE8: 0 | EF8: 0 | EG8: 0 | EH8: 0 | EJ8: =$U$8*AL8 -> 0 | EK8: =$V$8*AM8 -> 0 | EL8: =$W$8*AN8 -> 0 | EM8: =$X$8*AO8 -> 0 | EN8: =$Y$8*AP8 -> 0 | EO8: =$Z$8*AQ8 -> 0 | EP8: =$AA$8*AR8 -> 0 | EQ8: =$AB$8*AS8 -> 0 | ER8: =$AC$8*AT8 -> 0 | ES8: =$AD$8*AU8 -> 0 | ET8: =$AE$8*AV8 -> 0 | EU8: =$AF$8*AW8 -> 0 | EV8: =$AG$8*AX8 -> 0 | EW8: =$AH$8*AY8 -> 0 | EX8: =$AI$8*AZ8 -> 0 | EY8: =$AJ$8*BA8 -> 0 | FA8: =$U$8*BC8 -> 0 | FB8: =$V$8*BD8 -> 0 | FC8: =$W$8*BE8 -> 0 | FD8: =$X$8*BF8 -> 0 | FE8: =$Y$8*BG8 -> 0 | FF8: =$Z$8*BH8 -> 0 | FG8: =$AA$8*BI8 -> 0 | FH8: =$AB$8*BJ8 -> 0 | FI8: =$AC$8*BK8 -> 0 | FJ8: =$AD$8*BL8 -> 0 | FK8: =$AE$8*BM8 -> 0 | FL8: =$AF$8*BN8 -> 0 | FM8: =$AG$8*BO8 -> 0 | FN8: =$AH$8*BP8 -> 0 | FO8: =$AI$8*BQ8 -> 0 | FP8: =$AJ$8*BR8 -> 0 | FR8: =$U$8*BT8 -> 0 | FS8: =$V$8*BU8 -> 0 | FT8: =$W$8*BV8 -> 0 | FU8: =$X$8*BW8 -> 0 | FV8: =$Y$8*BX8 -> 0 | FW8: =$Z$8*BY8 -> 0 | FX8: =$AA$8*BZ8 -> 0 | FY8: =$AB$8*CA8 -> 0 | FZ8: =$AC$8*CB8 -> 0 | GA8: =$AD$8*CC8 -> 0 | GB8: =$AE$8*CD8 -> 0 | GC8: =$AF$8*CE8 -> 0 | GD8: =$AG$8*CF8 -> 0 | GE8: =$AH$8*CG8 -> 0 | GF8: =$AI$8*CH8 -> 0 | GG8: =$AJ$8*CI8 -> 0 | GI8: =$U$8*CK8 -> 45.2248 | GJ8: =$V$8*CL8 -> 192.2054 | GK8: =$W$8*CM8 -> 203.5116 | GL8: =$X$8*CN8 -> 101.7558 | GM8: =$Y$8*CO8 -> 16.9593 | GN8: =$Z$8*CP8 -> 28.2655 | GO8: =$AA$8*CQ8 -> 5.6531 | GP8: =$AB$8*CR8 -> 84.7965 | GQ8: =$AC$8*CS8 -> 11.3062 | GR8: =$AD$8*CT8 -> 11.3062 | GS8: =$AE$8*CU8 -> 28.2655 | GT8: =$AF$8*CV8 -> 33.9186 | GU8: =$AG$8*CW8 -> 135.6744 | GV8: =$AH$8*CX8 -> 5.6531 | GW8: =$AI$8*CY8 -> 135.6744 | GX8: =$AJ$8*CZ8 -> 90.4496 | GZ8: =$U$8*DB8 -> 0 | HA8: =$V$8*DC8 -> 0 | HB8: =$W$8*DD8 -> 0 | HC8: =$X$8*DE8 -> 0 | HD8: =$Y$8*DF8 -> 0 | HE8: =$Z$8*DG8 -> 0 | HF8: =$AA$8*DH8 -> 0 | HG8: =$AB$8*DI8 -> 0 | HH8: =$AC$8*DJ8 -> 0 | HI8: =$AD$8*DK8 -> 0 | HJ8: =$AE$8*DL8 -> 0 | HK8: =$AF$8*DM8 -> 0 | HL8: =$AG$8*DN8 -> 0 | HM8: =$AH$8*DO8 -> 0 | HN8: =$AI$8*DP8 -> 0 | HO8: =$AJ$8*DQ8 -> 0 | HQ8: =$U$8*DS8 -> 0 | HR8: =$V$8*DT8 -> 0 | HS8: =$W$8*DU8 -> 0 | HT8: =$X$8*DV8 -> 0 | HU8: =$Y$8*DW8 -> 0 | HV8: =$Z$8*DX8 -> 0 | HW8: =$AA$8*DY8 -> 0 | HX8: =$AB$8*DZ8 -> 0 | HY8: =$AC$8*EA8 -> 0 | HZ8: =$AD$8*EB8 -> 0 | IA8: =$AE$8*EC8 -> 0 | IB8: =$AF$8*ED8 -> 0 | IC8: =$AG$8*EE8 -> 0 | ID8: =$AH$8*EF8 -> 0 | IE8: =$AI$8*EG8 -> 0 | IF8: =$AJ$8*EH8 -> 0 | IH8: Yard Trimmings | II8: =INDEX($EJ$39:$EY$39,MATCH($IH8,$EJ$4:$EY$4,0)) -> 0 | IJ8: =INDEX($FA$39:$FP$39,MATCH($IH8,$FA$4:$FP$4,0)) -> 0 | IK8: =INDEX($FR$39:$GG$39,MATCH($IH8,$FR$4:$GG$4,0)) -> 3524.0902 | IL8: =INDEX($GI$39:$GX$39,MATCH($IH8,$GI$4:$GX$4,0)) -> 3094.7283 | IM8: =INDEX($GZ$39:$HO$39,MATCH($IH8,$GZ$4:$HO$4,0)) -> 0 | IN8: =INDEX($HQ$39:$IF$39,MATCH($IH8,$HQ$4:$IF$4,0)) -> 1025.7995 | IP8: =INDEX($FR$6:$GG$6,MATCH(IH8,$FR$4:$GG$4,0))+INDEX($FR$12:$GG$12,MATCH(IH8,$FR$4:$GG$4,0)) -> 1291.2912 | IQ8: =IK8-IP8 -> 2232.799
A9: Chatham | B9: =INDEX('Waste Projections'!$H11:$AL11,MATCH('1.Baseline'!$B$1,'Waste Projections'!$H$6:$AL$6,0)) -> 5139.54 | C9: SEMASS | D9: N/A | E9: N/A | F9: 0 | G9: N/A | H9: 0 | I9: =IF(E9="N/A","N/A","Transfer Truck") -> N/A | J9: 52.6 | K9: Transfer Truck | L9: =(IF($G9=L$4,$F9,0)+IF($I9=L$4,$H9,0)+IF($K9=L$4,$J9,0))*$B9 -> 0 | M9: =(IF($G9=M$4,$F9,0)+IF($I9=M$4,$H9,0)+IF($K9=M$4,$J9,0))*$B9 -> 270339.8 | N9: =(IF($G9=N$4,$F9,0)+IF($I9=N$4,$H9,0)+IF($K9=N$4,$J9,0))*$B9 -> 0 | O9: =(IF($G9=O$4,$F9,0)+IF($I9=O$4,$H9,0)+IF($K9=O$4,$J9,0))*$B9 -> 0 | P9: =INDEX('Transportation GHG'!$B$21:$B$24,MATCH('1.Baseline'!P$4,'Transportation GHG'!$A$21:$A$24,0))*L9 -> 0 | Q9: =INDEX('Transportation GHG'!$B$21:$B$24,MATCH('1.Baseline'!Q$4,'Transportation GHG'!$A$21:$A$24,0))*M9 -> 24.25156 | R9: =INDEX('Transportation GHG'!$B$21:$B$24,MATCH('1.Baseline'!R$4,'Transportation GHG'!$A$21:$A$24,0))*N9 -> 0 | S9: =INDEX('Transportation GHG'!$B$21:$B$24,MATCH('1.Baseline'!S$4,'Transportation GHG'!$A$21:$A$24,0))*O9 -> 0 | U9: =INDEX('Waste Composition'!$P$5:$P$20,MATCH('1.Baseline'!U$4,'Waste Composition'!$O$5:$O$20,0))*$B9 -> 205.5816 | V9: =INDEX('Waste Composition'!$P$5:$P$20,MATCH('1.Baseline'!V$4,'Waste Composition'!$O$5:$O$20,0))*$B9 -> 873.7218 | W9: =INDEX('Waste Composition'!$P$5:$P$20,MATCH('1.Baseline'!W$4,'Waste Composition'!$O$5:$O$20,0))*$B9 -> 925.1172 | X9: =INDEX('Waste Composition'!$P$5:$P$20,MATCH('1.Baseline'!X$4,'Waste Composition'!$O$5:$O$20,0))*$B9 -> 462.5586 | Y9: =INDEX('Waste Composition'!$P$5:$P$20,MATCH('1.Baseline'!Y$4,'Waste Composition'!$O$5:$O$20,0))*$B9 -> 77.0931 | Z9: =INDEX('Waste Composition'!$P$5:$P$20,MATCH('1.Baseline'!Z$4,'Waste Composition'!$O$5:$O$20,0))*$B9 -> 128.4885 | AA9: =INDEX('Waste Composition'!$P$5:$P$20,MATCH('1.Baseline'!AA$4,'Waste Composition'!$O$5:$O$20,0))*$B9 -> 25.6977 | AB9: =INDEX('Waste Composition'!$P$5:$P$20,MATCH('1.Baseline'!AB$4,'Waste Composition'!$O$5:$O$20,0))*$B9 -> 385.4655 | ... AJ9: =INDEX('Waste Composition'!$P$5:$P$20,MATCH('1.Baseline'!AJ$4,'Waste Composition'!$O$5:$O$20,0))*$B9 -> 411.1632 | AL9: 0 | AM9: 0 | AN9: 0 | AO9: 0 | AP9: 0 | AQ9: 0 | AR9: 0 | AS9: 0 | AT9: 0 | AU9: 0 | AV9: 0 | AW9: 0 | AX9: 0 | AY9: 0 | AZ9: 0 | BA9: 0 | BC9: 0 | BD9: 0 | BE9: 0 | BF9: 0 | BG9: 0 | BH9: 0 | BI9: 0 | BJ9: 0 | BK9: 0 | BL9: 0 | BM9: 0 | BN9: 0 | BO9: 0 | BP9: 0 | BQ9: 0 | BR9: 0 | BT9: 0 | BU9: 0 | BV9: 0 | BW9: 0 | BX9: 0 | BY9: 0 | BZ9: 0 | CA9: 0 | CB9: 0 | CC9: 0 | CD9: 0 | CE9: 0 | CF9: 0 | CG9: 0 | CH9: 0 | CI9: 0 | CK9: 1 | CL9: 1 | CM9: 1 | CN9: 1 | CO9: 1 | CP9: 1 | CQ9: 1 | CR9: 1 | CS9: 1 | CT9: 1 | CU9: 1 | CV9: 1 | CW9: 1 | CX9: 1 | CY9: 1 | CZ9: 1 | DB9: 0 | DC9: 0 | DD9: 0 | DE9: 0 | DF9: 0 | DG9: 0 | DH9: 0 | DI9: 0 | DJ9: 0 | DK9: 0 | DL9: 0 | DM9: 0 | DN9: 0 | DO9: 0 | DP9: 0 | DQ9: 0 | DS9: 0 | DT9: 0 | DU9: 0 | DV9: 0 | DW9: 0 | DX9: 0 | DY9: 0 | DZ9: 0 | EA9: 0 | EB9: 0 | EC9: 0 | ED9: 0 | EE9: 0 | EF9: 0 | EG9: 0 | EH9: 0 | EJ9: =$U$9*AL9 -> 0 | EK9: =$V$9*AM9 -> 0 | EL9: =$W$9*AN9 -> 0 | EM9: =$X$9*AO9 -> 0 | EN9: =$Y$9*AP9 -> 0 | EO9: =$Z$9*AQ9 -> 0 | EP9: =$AA$9*AR9 -> 0 | EQ9: =$AB$9*AS9 -> 0 | ER9: =$AC$9*AT9 -> 0 | ES9: =$AD$9*AU9 -> 0 | ET9: =$AE$9*AV9 -> 0 | EU9: =$AF$9*AW9 -> 0 | EV9: =$AG$9*AX9 -> 0 | EW9: =$AH$9*AY9 -> 0 | EX9: =$AI$9*AZ9 -> 0 | EY9: =$AJ$9*BA9 -> 0 | FA9: =$U$9*BC9 -> 0 | FB9: =$V$9*BD9 -> 0 | FC9: =$W$9*BE9 -> 0 | FD9: =$X$9*BF9 -> 0 | FE9: =$Y$9*BG9 -> 0 | FF9: =$Z$9*BH9 -> 0 | FG9: =$AA$9*BI9 -> 0 | FH9: =$AB$9*BJ9 -> 0 | FI9: =$AC$9*BK9 -> 0 | FJ9: =$AD$9*BL9 -> 0 | FK9: =$AE$9*BM9 -> 0 | FL9: =$AF$9*BN9 -> 0 | FM9: =$AG$9*BO9 -> 0 | FN9: =$AH$9*BP9 -> 0 | FO9: =$AI$9*BQ9 -> 0 | FP9: =$AJ$9*BR9 -> 0 | FR9: =$U$9*BT9 -> 0 | FS9: =$V$9*BU9 -> 0 | FT9: =$W$9*BV9 -> 0 | FU9: =$X$9*BW9 -> 0 | FV9: =$Y$9*BX9 -> 0 | FW9: =$Z$9*BY9 -> 0 | FX9: =$AA$9*BZ9 -> 0 | FY9: =$AB$9*CA9 -> 0 | FZ9: =$AC$9*CB9 -> 0 | GA9: =$AD$9*CC9 -> 0 | GB9: =$AE$9*CD9 -> 0 | GC9: =$AF$9*CE9 -> 0 | GD9: =$AG$9*CF9 -> 0 | GE9: =$AH$9*CG9 -> 0 | GF9: =$AI$9*CH9 -> 0 | GG9: =$AJ$9*CI9 -> 0 | GI9: =$U$9*CK9 -> 205.5816 | GJ9: =$V$9*CL9 -> 873.7218 | GK9: =$W$9*CM9 -> 925.1172 | GL9: =$X$9*CN9 -> 462.5586 | GM9: =$Y$9*CO9 -> 77.0931 | GN9: =$Z$9*CP9 -> 128.4885 | GO9: =$AA$9*CQ9 -> 25.6977 | GP9: =$AB$9*CR9 -> 385.4655 | GQ9: =$AC$9*CS9 -> 51.3954 | GR9: =$AD$9*CT9 -> 51.3954 | GS9: =$AE$9*CU9 -> 128.4885 | GT9: =$AF$9*CV9 -> 154.1862 | GU9: =$AG$9*CW9 -> 616.7448 | GV9: =$AH$9*CX9 -> 25.6977 | GW9: =$AI$9*CY9 -> 616.7448 | GX9: =$AJ$9*CZ9 -> 411.1632 | GZ9: =$U$9*DB9 -> 0 | HA9: =$V$9*DC9 -> 0 | HB9: =$W$9*DD9 -> 0 | HC9: =$X$9*DE9 -> 0 | HD9: =$Y$9*DF9 -> 0 | HE9: =$Z$9*DG9 -> 0 | HF9: =$AA$9*DH9 -> 0 | HG9: =$AB$9*DI9 -> 0 | HH9: =$AC$9*DJ9 -> 0 | HI9: =$AD$9*DK9 -> 0 | HJ9: =$AE$9*DL9 -> 0 | HK9: =$AF$9*DM9 -> 0 | HL9: =$AG$9*DN9 -> 0 | HM9: =$AH$9*DO9 -> 0 | HN9: =$AI$9*DP9 -> 0 | HO9: =$AJ$9*DQ9 -> 0 | HQ9: =$U$9*DS9 -> 0 | HR9: =$V$9*DT9 -> 0 | HS9: =$W$9*DU9 -> 0 | HT9: =$X$9*DV9 -> 0 | HU9: =$Y$9*DW9 -> 0 | HV9: =$Z$9*DX9 -> 0 | HW9: =$AA$9*DY9 -> 0 | HX9: =$AB$9*DZ9 -> 0 | HY9: =$AC$9*EA9 -> 0 | HZ9: =$AD$9*EB9 -> 0 | IA9: =$AE$9*EC9 -> 0 | IB9: =$AF$9*ED9 -> 0 | IC9: =$AG$9*EE9 -> 0 | ID9: =$AH$9*EF9 -> 0 | IE9: =$AI$9*EG9 -> 0 | IF9: =$AJ$9*EH9 -> 0 | IH9: HDPE | II9: =INDEX($EJ$39:$EY$39,MATCH($IH9,$EJ$4:$EY$4,0)) -> 0 | IJ9: =INDEX($FA$39:$FP$39,MATCH($IH9,$FA$4:$FP$4,0)) -> 0 | IK9: =INDEX($FR$39:$GG$39,MATCH($IH9,$FR$4:$GG$4,0)) -> 587.34837 | IL9: =INDEX($GI$39:$GX$39,MATCH($IH9,$GI$4:$GX$4,0)) -> 515.78805 | IM9: =INDEX($GZ$39:$HO$39,MATCH($IH9,$GZ$4:$HO$4,0)) -> 0 | IN9: =INDEX($HQ$39:$IF$39,MATCH($IH9,$HQ$4:$IF$4,0)) -> 0 | IP9: =INDEX($FR$6:$GG$6,MATCH(IH9,$FR$4:$GG$4,0))+INDEX($FR$12:$GG$12,MATCH(IH9,$FR$4:$GG$4,0)) -> 215.2152 | IQ9: =IK9-IP9 -> 372.13317
A10: Dennis | B10: =INDEX('Waste Projections'!$H12:$AL12,MATCH('1.Baseline'!$B$1,'Waste Projections'!$H$6:$AL$6,0)) -> 3769 | C10: SEMASS | D10: Yarmouth RTS | E10: N/A | F10: 5.3 | G10: Transfer Truck | H10: 0 | I10: =IF(E10="N/A","N/A","Transfer Truck") -> N/A | J10: 39.2 | K10: Rail | L10: =(IF($G10=L$4,$F10,0)+IF($I10=L$4,$H10,0)+IF($K10=L$4,$J10,0))*$B10 -> 0 | M10: =(IF($G10=M$4,$F10,0)+IF($I10=M$4,$H10,0)+IF($K10=M$4,$J10,0))*$B10 -> 19975.7 | N10: =(IF($G10=N$4,$F10,0)+IF($I10=N$4,$H10,0)+IF($K10=N$4,$J10,0))*$B10 -> 0 | O10: =(IF($G10=O$4,$F10,0)+IF($I10=O$4,$H10,0)+IF($K10=O$4,$J10,0))*$B10 -> 147744.8 | P10: =INDEX('Transportation GHG'!$B$21:$B$24,MATCH('1.Baseline'!P$4,'Transportation GHG'!$A$21:$A$24,0))*L10 -> 0 | Q10: =INDEX('Transportation GHG'!$B$21:$B$24,MATCH('1.Baseline'!Q$4,'Transportation GHG'!$A$21:$A$24,0))*M10 -> 1.7919739 | R10: =INDEX('Transportation GHG'!$B$21:$B$24,MATCH('1.Baseline'!R$4,'Transportation GHG'!$A$21:$A$24,0))*N10 -> 0 | S10: =INDEX('Transportation GHG'!$B$21:$B$24,MATCH('1.Baseline'!S$4,'Transportation GHG'!$A$21:$A$24,0))*O10 -> 3.5020322 | U10: =INDEX('Waste Composition'!$P$5:$P$20,MATCH('1.Baseline'!U$4,'Waste Composition'!$O$5:$O$20,0))*$B10 -> 150.76 | V10: =INDEX('Waste Composition'!$P$5:$P$20,MATCH('1.Baseline'!V$4,'Waste Composition'!$O$5:$O$20,0))*$B10 -> 640.73 | W10: =INDEX('Waste Composition'!$P$5:$P$20,MATCH('1.Baseline'!W$4,'Waste Composition'!$O$5:$O$20,0))*$B10 -> 678.42 | X10: =INDEX('Waste Composition'!$P$5:$P$20,MATCH('1.Baseline'!X$4,'Waste Composition'!$O$5:$O$20,0))*$B10 -> 339.21 | Y10: =INDEX('Waste Composition'!$P$5:$P$20,MATCH('1.Baseline'!Y$4,'Waste Composition'!$O$5:$O$20,0))*$B10 -> 56.535 | Z10: =INDEX('Waste Composition'!$P$5:$P$20,MATCH('1.Baseline'!Z$4,'Waste Composition'!$O$5:$O$20,0))*$B10 -> 94.225 | AA10: =INDEX('Waste Composition'!$P$5:$P$20,MATCH('1.Baseline'!AA$4,'Waste Composition'!$O$5:$O$20,0))*$B10 -> 18.845 | AB10: =INDEX('Waste Composition'!$P$5:$P$20,MATCH('1.Baseline'!AB$4,'Waste Composition'!$O$5:$O$20,0))*$B10 -> 282.675 | ... AJ10: =INDEX('Waste Composition'!$P$5:$P$20,MATCH('1.Baseline'!AJ$4,'Waste Composition'!$O$5:$O$20,0))*$B10 -> 301.52 | AL10: 0 | AM10: 0 | AN10: 0 | AO10: 0 | AP10: 0 | AQ10: 0 | AR10: 0 | AS10: 0 | AT10: 0 | AU10: 0 | AV10: 0 | AW10: 0 | AX10: 0 | AY10: 0 | AZ10: 0 | BA10: 0 | BC10: 0 | BD10: 0 | BE10: 0 | BF10: 0 | BG10: 0 | BH10: 0 | BI10: 0 | BJ10: 0 | BK10: 0 | BL10: 0 | BM10: 0 | BN10: 0 | BO10: 0 | BP10: 0 | BQ10: 0 | BR10: 0 | BT10: 0 | BU10: 0 | BV10: 0 | BW10: 0 | BX10: 0 | BY10: 0 | BZ10: 0 | CA10: 0 | CB10: 0 | CC10: 0 | CD10: 0 | CE10: 0 | CF10: 0 | CG10: 0 | CH10: 0 | CI10: 0 | CK10: 1 | CL10: 1 | CM10: 1 | CN10: 1 | CO10: 1 | CP10: 1 | CQ10: 1 | CR10: 1 | CS10: 1 | CT10: 1 | CU10: 1 | CV10: 1 | CW10: 1 | CX10: 1 | CY10: 1 | CZ10: 1 | DB10: 0 | DC10: 0 | DD10: 0 | DE10: 0 | DF10: 0 | DG10: 0 | DH10: 0 | DI10: 0 | DJ10: 0 | DK10: 0 | DL10: 0 | DM10: 0 | DN10: 0 | DO10: 0 | DP10: 0 | DQ10: 0 | DS10: 0 | DT10: 0 | DU10: 0 | DV10: 0 | DW10: 0 | DX10: 0 | DY10: 0 | DZ10: 0 | EA10: 0 | EB10: 0 | EC10: 0 | ED10: 0 | EE10: 0 | EF10: 0 | EG10: 0 | EH10: 0 | EJ10: =$U$10*AL10 -> 0 | EK10: =$V$10*AM10 -> 0 | EL10: =$W$10*AN10 -> 0 | EM10: =$X$10*AO10 -> 0 | EN10: =$Y$10*AP10 -> 0 | EO10: =$Z$10*AQ10 -> 0 | EP10: =$AA$10*AR10 -> 0 | EQ10: =$AB$10*AS10 -> 0 | ER10: =$AC$10*AT10 -> 0 | ES10: =$AD$10*AU10 -> 0 | ET10: =$AE$10*AV10 -> 0 | EU10: =$AF$10*AW10 -> 0 | EV10: =$AG$10*AX10 -> 0 | EW10: =$AH$10*AY10 -> 0 | EX10: =$AI$10*AZ10 -> 0 | EY10: =$AJ$10*BA10 -> 0 | FA10: =$U$10*BC10 -> 0 | FB10: =$V$10*BD10 -> 0 | FC10: =$W$10*BE10 -> 0 | FD10: =$X$10*BF10 -> 0 | FE10: =$Y$10*BG10 -> 0 | FF10: =$Z$10*BH10 -> 0 | FG10: =$AA$10*BI10 -> 0 | FH10: =$AB$10*BJ10 -> 0 | FI10: =$AC$10*BK10 -> 0 | FJ10: =$AD$10*BL10 -> 0 | FK10: =$AE$10*BM10 -> 0 | FL10: =$AF$10*BN10 -> 0 | FM10: =$AG$10*BO10 -> 0 | FN10: =$AH$10*BP10 -> 0 | FO10: =$AI$10*BQ10 -> 0 | FP10: =$AJ$10*BR10 -> 0 | FR10: =$U$10*BT10 -> 0 | FS10: =$V$10*BU10 -> 0 | FT10: =$W$10*BV10 -> 0 | FU10: =$X$10*BW10 -> 0 | FV10: =$Y$10*BX10 -> 0 | FW10: =$Z$10*BY10 -> 0 | FX10: =$AA$10*BZ10 -> 0 | FY10: =$AB$10*CA10 -> 0 | FZ10: =$AC$10*CB10 -> 0 | GA10: =$AD$10*CC10 -> 0 | GB10: =$AE$10*CD10 -> 0 | GC10: =$AF$10*CE10 -> 0 | GD10: =$AG$10*CF10 -> 0 | GE10: =$AH$10*CG10 -> 0 | GF10: =$AI$10*CH10 -> 0 | GG10: =$AJ$10*CI10 -> 0 | GI10: =$U$10*CK10 -> 150.76 | GJ10: =$V$10*CL10 -> 640.73 | GK10: =$W$10*CM10 -> 678.42 | GL10: =$X$10*CN10 -> 339.21 | GM10: =$Y$10*CO10 -> 56.535 | GN10: =$Z$10*CP10 -> 94.225 | GO10: =$AA$10*CQ10 -> 18.845 | GP10: =$AB$10*CR10 -> 282.675 | GQ10: =$AC$10*CS10 -> 37.69 | GR10: =$AD$10*CT10 -> 37.69 | GS10: =$AE$10*CU10 -> 94.225 | GT10: =$AF$10*CV10 -> 113.07 | GU10: =$AG$10*CW10 -> 452.28 | GV10: =$AH$10*CX10 -> 18.845 | GW10: =$AI$10*CY10 -> 452.28 | GX10: =$AJ$10*CZ10 -> 301.52 | GZ10: =$U$10*DB10 -> 0 | HA10: =$V$10*DC10 -> 0 | HB10: =$W$10*DD10 -> 0 | HC10: =$X$10*DE10 -> 0 | HD10: =$Y$10*DF10 -> 0 | HE10: =$Z$10*DG10 -> 0 | HF10: =$AA$10*DH10 -> 0 | HG10: =$AB$10*DI10 -> 0 | HH10: =$AC$10*DJ10 -> 0 | HI10: =$AD$10*DK10 -> 0 | HJ10: =$AE$10*DL10 -> 0 | HK10: =$AF$10*DM10 -> 0 | HL10: =$AG$10*DN10 -> 0 | HM10: =$AH$10*DO10 -> 0 | HN10: =$AI$10*DP10 -> 0 | HO10: =$AJ$10*DQ10 -> 0 | HQ10: =$U$10*DS10 -> 0 | HR10: =$V$10*DT10 -> 0 | HS10: =$W$10*DU10 -> 0 | HT10: =$X$10*DV10 -> 0 | HU10: =$Y$10*DW10 -> 0 | HV10: =$Z$10*DX10 -> 0 | HW10: =$AA$10*DY10 -> 0 | HX10: =$AB$10*DZ10 -> 0 | HY10: =$AC$10*EA10 -> 0 | HZ10: =$AD$10*EB10 -> 0 | IA10: =$AE$10*EC10 -> 0 | IB10: =$AF$10*ED10 -> 0 | IC10: =$AG$10*EE10 -> 0 | ID10: =$AH$10*EF10 -> 0 | IE10: =$AI$10*EG10 -> 0 | IF10: =$AJ$10*EH10 -> 0 | IH10: PET | II10: =INDEX($EJ$39:$EY$39,MATCH($IH10,$EJ$4:$EY$4,0)) -> 0 | IJ10: =INDEX($FA$39:$FP$39,MATCH($IH10,$FA$4:$FP$4,0)) -> 0 | IK10: =INDEX($FR$39:$GG$39,MATCH($IH10,$FR$4:$GG$4,0)) -> 978.91396 | IL10: =INDEX($GI$39:$GX$39,MATCH($IH10,$GI$4:$GX$4,0)) -> 859.64675 | IM10: =INDEX($GZ$39:$HO$39,MATCH($IH10,$GZ$4:$HO$4,0)) -> 0 | IN10: =INDEX($HQ$39:$IF$39,MATCH($IH10,$HQ$4:$IF$4,0)) -> 0 | IP10: =INDEX($FR$6:$GG$6,MATCH(IH10,$FR$4:$GG$4,0))+INDEX($FR$12:$GG$12,MATCH(IH10,$FR$4:$GG$4,0)) -> 358.692 | IQ10: =IK10-IP10 -> 620.22196
A11: Eastham | B11: =INDEX('Waste Projections'!$H13:$AL13,MATCH('1.Baseline'!$B$1,'Waste Projections'!$H$6:$AL$6,0)) -> 3570.38 | C11: SEMASS | D11: N/A | E11: N/A | F11: 0 | G11: N/A | H11: 0 | I11: =IF(E11="N/A","N/A","Transfer Truck") -> N/A | J11: 56.9 | K11: Transfer Truck | L11: =(IF($G11=L$4,$F11,0)+IF($I11=L$4,$H11,0)+IF($K11=L$4,$J11,0))*$B11 -> 0 | M11: =(IF($G11=M$4,$F11,0)+IF($I11=M$4,$H11,0)+IF($K11=M$4,$J11,0))*$B11 -> 203154.62 | N11: =(IF($G11=N$4,$F11,0)+IF($I11=N$4,$H11,0)+IF($K11=N$4,$J11,0))*$B11 -> 0 | O11: =(IF($G11=O$4,$F11,0)+IF($I11=O$4,$H11,0)+IF($K11=O$4,$J11,0))*$B11 -> 0 | P11: =INDEX('Transportation GHG'!$B$21:$B$24,MATCH('1.Baseline'!P$4,'Transportation GHG'!$A$21:$A$24,0))*L11 -> 0 | Q11: =INDEX('Transportation GHG'!$B$21:$B$24,MATCH('1.Baseline'!Q$4,'Transportation GHG'!$A$21:$A$24,0))*M11 -> 18.224532 | R11: =INDEX('Transportation GHG'!$B$21:$B$24,MATCH('1.Baseline'!R$4,'Transportation GHG'!$A$21:$A$24,0))*N11 -> 0 | S11: =INDEX('Transportation GHG'!$B$21:$B$24,MATCH('1.Baseline'!S$4,'Transportation GHG'!$A$21:$A$24,0))*O11 -> 0 | U11: =INDEX('Waste Composition'!$P$5:$P$20,MATCH('1.Baseline'!U$4,'Waste Composition'!$O$5:$O$20,0))*$B11 -> 142.8152 | V11: =INDEX('Waste Composition'!$P$5:$P$20,MATCH('1.Baseline'!V$4,'Waste Composition'!$O$5:$O$20,0))*$B11 -> 606.9646 | W11: =INDEX('Waste Composition'!$P$5:$P$20,MATCH('1.Baseline'!W$4,'Waste Composition'!$O$5:$O$20,0))*$B11 -> 642.6684 | X11: =INDEX('Waste Composition'!$P$5:$P$20,MATCH('1.Baseline'!X$4,'Waste Composition'!$O$5:$O$20,0))*$B11 -> 321.3342 | Y11: =INDEX('Waste Composition'!$P$5:$P$20,MATCH('1.Baseline'!Y$4,'Waste Composition'!$O$5:$O$20,0))*$B11 -> 53.5557 | Z11: =INDEX('Waste Composition'!$P$5:$P$20,MATCH('1.Baseline'!Z$4,'Waste Composition'!$O$5:$O$20,0))*$B11 -> 89.2595 | AA11: =INDEX('Waste Composition'!$P$5:$P$20,MATCH('1.Baseline'!AA$4,'Waste Composition'!$O$5:$O$20,0))*$B11 -> 17.8519 | AB11: =INDEX('Waste Composition'!$P$5:$P$20,MATCH('1.Baseline'!AB$4,'Waste Composition'!$O$5:$O$20,0))*$B11 -> 267.7785 | ... AJ11: =INDEX('Waste Composition'!$P$5:$P$20,MATCH('1.Baseline'!AJ$4,'Waste Composition'!$O$5:$O$20,0))*$B11 -> 285.6304 | AL11: 0 | AM11: 0 | AN11: 0 | AO11: 0 | AP11: 0 | AQ11: 0 | AR11: 0 | AS11: 0 | AT11: 0 | AU11: 0 | AV11: 0 | AW11: 0 | AX11: 0 | AY11: 0 | AZ11: 0 | BA11: 0 | BC11: 0 | BD11: 0 | BE11: 0 | BF11: 0 | BG11: 0 | BH11: 0 | BI11: 0 | BJ11: 0 | BK11: 0 | BL11: 0 | BM11: 0 | BN11: 0 | BO11: 0 | BP11: 0 | BQ11: 0 | BR11: 0 | BT11: 0 | BU11: 0 | BV11: 0 | BW11: 0 | BX11: 0 | BY11: 0 | BZ11: 0 | CA11: 0 | CB11: 0 | CC11: 0 | CD11: 0 | CE11: 0 | CF11: 0 | CG11: 0 | CH11: 0 | CI11: 0 | CK11: 1 | CL11: 1 | CM11: 1 | CN11: 1 | CO11: 1 | CP11: 1 | CQ11: 1 | CR11: 1 | CS11: 1 | CT11: 1 | CU11: 1 | CV11: 1 | CW11: 1 | CX11: 1 | CY11: 1 | CZ11: 1 | DB11: 0 | DC11: 0 | DD11: 0 | DE11: 0 | DF11: 0 | DG11: 0 | DH11: 0 | DI11: 0 | DJ11: 0 | DK11: 0 | DL11: 0 | DM11: 0 | DN11: 0 | DO11: 0 | DP11: 0 | DQ11: 0 | DS11: 0 | DT11: 0 | DU11: 0 | DV11: 0 | DW11: 0 | DX11: 0 | DY11: 0 | DZ11: 0 | EA11: 0 | EB11: 0 | EC11: 0 | ED11: 0 | EE11: 0 | EF11: 0 | EG11: 0 | EH11: 0 | EJ11: =$U$11*AL11 -> 0 | EK11: =$V$11*AM11 -> 0 | EL11: =$W$11*AN11 -> 0 | EM11: =$X$11*AO11 -> 0 | EN11: =$Y$11*AP11 -> 0 | EO11: =$Z$11*AQ11 -> 0 | EP11: =$AA$11*AR11 -> 0 | EQ11: =$AB$11*AS11 -> 0 | ER11: =$AC$11*AT11 -> 0 | ES11: =$AD$11*AU11 -> 0 | ET11: =$AE$11*AV11 -> 0 | EU11: =$AF$11*AW11 -> 0 | EV11: =$AG$11*AX11 -> 0 | EW11: =$AH$11*AY11 -> 0 | EX11: =$AI$11*AZ11 -> 0 | EY11: =$AJ$11*BA11 -> 0 | FA11: =$U$11*BC11 -> 0 | FB11: =$V$11*BD11 -> 0 | FC11: =$W$11*BE11 -> 0 | FD11: =$X$11*BF11 -> 0 | FE11: =$Y$11*BG11 -> 0 | FF11: =$Z$11*BH11 -> 0 | FG11: =$AA$11*BI11 -> 0 | FH11: =$AB$11*BJ11 -> 0 | FI11: =$AC$11*BK11 -> 0 | FJ11: =$AD$11*BL11 -> 0 | FK11: =$AE$11*BM11 -> 0 | FL11: =$AF$11*BN11 -> 0 | FM11: =$AG$11*BO11 -> 0 | FN11: =$AH$11*BP11 -> 0 | FO11: =$AI$11*BQ11 -> 0 | FP11: =$AJ$11*BR11 -> 0 | FR11: =$U$11*BT11 -> 0 | FS11: =$V$11*BU11 -> 0 | FT11: =$W$11*BV11 -> 0 | FU11: =$X$11*BW11 -> 0 | FV11: =$Y$11*BX11 -> 0 | FW11: =$Z$11*BY11 -> 0 | FX11: =$AA$11*BZ11 -> 0 | FY11: =$AB$11*CA11 -> 0 | FZ11: =$AC$11*CB11 -> 0 | GA11: =$AD$11*CC11 -> 0 | GB11: =$AE$11*CD11 -> 0 | GC11: =$AF$11*CE11 -> 0 | GD11: =$AG$11*CF11 -> 0 | GE11: =$AH$11*CG11 -> 0 | GF11: =$AI$11*CH11 -> 0 | GG11: =$AJ$11*CI11 -> 0 | GI11: =$U$11*CK11 -> 142.8152 | GJ11: =$V$11*CL11 -> 606.9646 | GK11: =$W$11*CM11 -> 642.6684 | GL11: =$X$11*CN11 -> 321.3342 | GM11: =$Y$11*CO11 -> 53.5557 | GN11: =$Z$11*CP11 -> 89.2595 | GO11: =$AA$11*CQ11 -> 17.8519 | GP11: =$AB$11*CR11 -> 267.7785 | GQ11: =$AC$11*CS11 -> 35.7038 | GR11: =$AD$11*CT11 -> 35.7038 | GS11: =$AE$11*CU11 -> 89.2595 | GT11: =$AF$11*CV11 -> 107.1114 | GU11: =$AG$11*CW11 -> 428.4456 | GV11: =$AH$11*CX11 -> 17.8519 | GW11: =$AI$11*CY11 -> 428.4456 | GX11: =$AJ$11*CZ11 -> 285.6304 | GZ11: =$U$11*DB11 -> 0 | HA11: =$V$11*DC11 -> 0 | HB11: =$W$11*DD11 -> 0 | HC11: =$X$11*DE11 -> 0 | HD11: =$Y$11*DF11 -> 0 | HE11: =$Z$11*DG11 -> 0 | HF11: =$AA$11*DH11 -> 0 | HG11: =$AB$11*DI11 -> 0 | HH11: =$AC$11*DJ11 -> 0 | HI11: =$AD$11*DK11 -> 0 | HJ11: =$AE$11*DL11 -> 0 | HK11: =$AF$11*DM11 -> 0 | HL11: =$AG$11*DN11 -> 0 | HM11: =$AH$11*DO11 -> 0 | HN11: =$AI$11*DP11 -> 0 | HO11: =$AJ$11*DQ11 -> 0 | HQ11: =$U$11*DS11 -> 0 | HR11: =$V$11*DT11 -> 0 | HS11: =$W$11*DU11 -> 0 | HT11: =$X$11*DV11 -> 0 | HU11: =$Y$11*DW11 -> 0 | HV11: =$Z$11*DX11 -> 0 | HW11: =$AA$11*DY11 -> 0 | HX11: =$AB$11*DZ11 -> 0 | HY11: =$AC$11*EA11 -> 0 | HZ11: =$AD$11*EB11 -> 0 | IA11: =$AE$11*EC11 -> 0 | IB11: =$AF$11*ED11 -> 0 | IC11: =$AG$11*EE11 -> 0 | ID11: =$AH$11*EF11 -> 0 | IE11: =$AI$11*EG11 -> 0 | IF11: =$AJ$11*EH11 -> 0 | IH11: PS | II11: =INDEX($EJ$39:$EY$39,MATCH($IH11,$EJ$4:$EY$4,0)) -> 0 | IJ11: =INDEX($FA$39:$FP$39,MATCH($IH11,$FA$4:$FP$4,0)) -> 0 | IK11: =INDEX($FR$39:$GG$39,MATCH($IH11,$FR$4:$GG$4,0)) -> 195.78279 | IL11: =INDEX($GI$39:$GX$39,MATCH($IH11,$GI$4:$GX$4,0)) -> 171.92935 | IM11: =INDEX($GZ$39:$HO$39,MATCH($IH11,$GZ$4:$HO$4,0)) -> 0 | IN11: =INDEX($HQ$39:$IF$39,MATCH($IH11,$HQ$4:$IF$4,0)) -> 0 | IP11: =INDEX($FR$6:$GG$6,MATCH(IH11,$FR$4:$GG$4,0))+INDEX($FR$12:$GG$12,MATCH(IH11,$FR$4:$GG$4,0)) -> 71.7384 | IQ11: =IK11-IP11 -> 124.04439
