Workbook

Sheet Technologies Matrix
L1: A | S1: ` | AC1: B | BE1: D | BH1: E | BI1: C | BL1: F | BR1: G | CR1: G, H
B2: Input Cell | O2: Flow per Home | P2: 160 | AL2: Project Cost Factor | AN2: 0.4 | BX2: Discount Rate | BY2: 0.05 | BZ2: (see Note 24) | CA2: Nper | CB2: 20 | CC2: Years (see Note 24)
B4: Technology / Strategy | C4: Icon | E4: Description | F4: Influent Source (see Note 1) | G4: Influent Concentration | H4: Pollutant Treated and/or Reason for Use (see Note 2) | I4: Potential Permitting Agencies | J4: Siting Requirements (see Note 3) | K4: Cells That May Require Input for Developing Site Specific Scenarios (Cells Highlighted Light Blue) | L4: Unit Metric (see Note 13) | M4: Metric Input | P4: Equivalent Number of Homes (see Note 6) | Q4: Baseline Concentration for Calculations (see Note 7) | S4: Nutrient Reduction (Percent Removal) (see Note 8) | W4: Percent Improvement of N Removal Over Title 5 (Baseline) (see Note 9) | X4: Technology Impact on Surface Water Quality (Phosphorus) (see Note 10) | Y4: Nutrient Removed per Year (see Note 11 and Note 12) | AH4: Cost / Unit Metric (See Note 14 through Note 23, inclusive) | AM4: Cost / Unit Metric (See Note 14 through Note 23, inclusive) | BI4: Replacement / Upgrade (see Note 30) | BM4: Reduction for Watershed per Planning Period | BQ4: Reduction for Watershed per Planning Period | BU4: Average Life Cycle Cost (Non Nutrient Reducing Technology) | BV4: BCCR Amortized Average Cost for Nutrient Reducing Technology Cost/kg N (see Note 9) | BW4: Watershed Efficiency - PV Average Cost for Nutrient Reducing Technology (see Note 31 and Note 32) | CI4: Cost per Pound of Nitrogen Reduction | CK4: Cost per Pound of Phosphorous Reduction | CM4: Watershed Reduction Efficiency - PV Average Cost for Nutrient Reducing Technology (see Note 31 and Note 32) | CY4: System Design Considerations (see Note 25) | CZ4: Potential Land Use Implication That May Require Growth Management Modifications | DA4: Potential for Revenue Generation | DB4: Time for Results to Improve Estuary Water body (Years) | DC4: Technology Resilience (see Note 26) | DD4: Advantages | DE4: Disadvantages | DF4: Eco Services (see Note 27) | DJ4: Monitoring (see Note 28) | DO4: Status of Piloting and DEP Approval | DP4: Findings from Pilot Studies (see also 208 Project Viewer) | DQ4: Active Reference Links | DR4: References, Notes, and Assumptions (see Note 29) | DS4: Implementation
M5: Flow | N5: Area | O5: Other | S5: Nitrogen | U5: Phosphorus | Y5: Nitrogen (Pounds) | AA5: Nitrogen (Kilograms) | AD5: Phosphorous (Pounds) | AF5: Phosphorus (Kilograms) | AH5: March 2014 Construction Cost (PV) | AK5: Current Construction Cost (PV) | AO5: Land Cost | AP5: Current Project Cost (PV) | AS5: March 2014 Annual O&M Cost | AV5: Current Annual O&M Cost | AZ5: Adjustment Factors | BC5: Adjusted Project Cost (PV) | BF5: Adjusted Annual O&M Cost | BI5: Useful Life (Number of Years) | BJ5: Replacement / Upgrade Cost | BK5: Total Replacement / Upgrade Cost | BL5: Project Cost (PV) | BM5: Pounds of Nitrogen Removed | BN5: Kilograms of Nitrogen Removed | BO5: Pounds of Phosphorous Removed | BP5: Kilograms of Phosphorus Removed | BQ5: Pounds of Nitrogen Removed | BR5: Kilograms of Nitrogen Removed | BS5: Pounds of Phosphorous Removed | BT5: Kilograms of Phosphorous Removed | BW5: Cost per Pound of Nitrogen Reduction | BZ5: Cost per Kilogram of Nitrogen Reduction | CC5: Cost per Pound of Phosphorous Reduction | CF5: Cost per Kilogram of Phosphorous Reduction | CM5: Cost per Pound of Nitrogen Reduction | CP5: Cost per Kilogram of Nitrogen Reduction | CS5: Cost per Pound of Phosphorous Reduction | CV5: Cost per Kilogram of Phosphorous Reduction | DF5: Habitat / Wildlife / Biodiversity Benefit | DG5: Green Space / Conservation / Recreation Benefit | DH5: Energy Savings / Nutrient Recovery / Recycling Benefit | DI5: Flooding / Extreme Events Benefit | DJ5: Evaluation Monitoring | DK5: Estimated Annual Evaluation Monitoring Costs | DL5: Estimated Years of Evaluation Monitoring Required | DM5: Long-Term O&M Monitoring | DN5: Estimated Annual Long- Term O&M Monitoring Costs | DS5: Regulatory Comments and Certainty | DT5: Public Acceptance
D6: Technology ID | M6: GPD (ADF) (see Note 4) | N6: Acre | O6: Cubic Foot, Linear Foot, Cubic Yard, Curb Mile, Each, Gallon or DTPD | Q6: Nitrogen (mg/L) | R6: Phosphorus (mg/L) | S6: Low | T6: High | U6: Low | V6: High | Y6: Low | Z6: High | AA6: Low | AB6: High | AC6: Average | AD6: Low | AE6: High | AF6: Low | AG6: High | AH6: Low | AI6: High | AJ6: Average | AK6: Low | AL6: High | AM6: Average | AN6: Percent Labor | AP6: Low | AQ6: High | AR6: Average | AS6: Low | AT6: High | AU6: Average | AV6: Low | AW6: High | AX6: Average | AY6: Percent Labor | AZ6: Project Cost | BA6: O&M | BB6: Remarks | BC6: Low | BD6: High | BE6: Average | BF6: Low | BG6: High | BH6: Average | BW6: Average Project Cost (PV) | BX6: O&M Cost (PV) | BY6: Average Life Cycle Cost (PV) | BZ6: Average Project Cost (PV) | CA6: O&M Cost (PV) | CB6: Average Life Cycle Cost (PV) | CC6: Average Project Cost (PV) | CD6: O&M Cost (PV) | CE6: Average Life Cycle Cost (PV) | CF6: Average Project Cost (PV) | CG6: O&M Cost (PV) | CH6: Average Life Cycle Cost (PV) | CI6: Upper Limit of Removal with Lower Limit of Cost | CJ6: Lower Limit of Removal with Upper Limit of Cost | CK6: Upper Limit of Removal with Lower Limit of Cost | CL6: Lower Limit of Removal with Upper Limit of Cost | CM6: Average Project Cost (PV) | CN6: O&M Cost (PV) | CO6: Average Life Cycle Cost (PV) | CP6: Average Project Cost (PV) | CQ6: O&M Cost (PV) | CR6: Average Life Cycle Cost (PV) | CS6: Average Project Cost (PV) | CT6: O&M Cost (PV) | CU6: Average Life Cycle Cost (PV) | CV6: Average Project Cost (PV) | CW6: O&M Cost (PV) | CX6: Average Life Cycle Cost (PV) | CY6: Infrastructure to Consider when Designing and Pricing Technology / Strategy | DO6: A - Approved AP - Advanced Pilot IP - Initial Pilot NA - Not Approvable | DP6: 208 Project Viewer
A7: Green Infrastructure | B7: Constructed Wetlands - Surface Flow | D7: 101 | E7: After primary treatment in a septic tank or WWTF or secondary treatment at a WWTF, water is fed into a free water surface (FWS) constructed wetland. Free water constructed wetlands closely mimic the ecosystem of a natural wetland by utilizing water loving plants to filter wastewater through their root zone, a planted medium, and open water zones. FWS wetlands are systems where open water is exposed much like in a natural marsh. The reclaimed water is generally discharged into a leach field or similar system for discharge to the groundwater. The reclaimed water can also be discharged into a water body or used for open space irrigation after treatment. However, more strict permitting and water quality standards must be met if not discharging to groundwater. This technology can be used as an alternative to conventional polishing (i.e. mechanical and/or chemical) of secondary and advanced wastewater treatment. This is a source Reduction technology. | F7: Septic Tank Effluent Primary Effluent Secondary Effluent | G7: 20 - 75 mg/L N 4 - 8 mg/L P | H7: Nitrogen Phosphorus Sediment Reduce amount of Direct Discharge to Groundwater | I7: ● MassDEP ● Department of Public Works ● Board of Health ● Conservation Commission ● Natural Heritage ● Mass Historical Commission ● US Army Corps or Engineers ● Division of Marine and Fisheries ● US Fish and Wildlife Service ● Building Department ● Land Owner | J7: ● Undeveloped land > 1 acre. ● Outside all wetlands resource areas. ● Outside 100 year flood hazard zone. ● Groundwater separation - GW depth > 4 feet. ● Not within priority habitat areas. ● Not within protected open space. ● Benefit if site has clay based soils, has disturbed soils, parcel intersects with 50 to 100 foot Buffer zone, has municipal ownership. ● No steep topography. | K7: P 2 - Flow per Home (gpd) AN 2 - Project Cost Factor (%) BU 2 - Discount Rate (% APR) BX 2 - Planning Period (Nper in years) N 7 - Acres Q 97 - Influent Nitrogen Load R 97 - Influent Phosphorus Load | L7: Acres | M7: =N7*15000 -> 15000 | N7: 1 | O7: N/A | P7: =M7/$P$2 -> 93.75 | Q7: 26.25 | R7: =$R$107 -> 6 | S7: =100*(1-40*(1-0.8)/$Q7) -> 69.52381 | T7: =100*(1-40*(1-0.95)/$Q7) -> 92.380952 | U7: 40 | V7: 60 | W7: =($Q$53-($Q$53*(($T$53+$S$53)/2)/100)-(Q7-(Q7*((T7+S7)/2)/100)))/($Q$53-($Q$53*(($T$53+$S$53)/2)/100)) -> 0.80952381 | X7: L | Y7: =((($Q7)*($S7/100))*(8.34*($M7/1000000)))*365 -> 833.32238 | Z7: =((($Q7)*($T7/100))*(8.34*($M7/1000000)))*365 -> 1107.2914 | AA7: =Y7*0.4536 -> 377.99503 | AB7: =Z7*0.4536 -> 502.26737 | AC7: =(AA7+AB7)/2 -> 440.1312 | AD7: =((($R7)*($U7/100))*(8.34*($M7/1000000)))*365 -> 109.5876 | AE7: =((($R7)*($V7/100))*(8.34*($M7/1000000)))*365 -> 164.3814 | AF7: =AD7*0.4536 -> 49.708935 | AG7: =AE7*0.4536 -> 74.563403 | AJ7: =ROUND((-0.000006*M7^2+27.458*M7+14583),-3) -> 425000 | AM7: =AJ7*($AA$109/$AA$107) -> 425000 | AN7: 0.85 | AO7: 0 | AR7: =(AM7*(1+$AN$2))+AO7 -> 595000 | AU7: =ROUND((5.4804*M7^0.7616),-3) -> 8000 | AX7: =AU7*($AA$109/$AA$107) -> 8000 | AY7: 0.75 | AZ7: 0.2 | BA7: 0 | BB7: ● Increase cost for pilot study. ● Increase cost for permitting. | BE7: =AR7*(1+$AZ7) -> 714000 | BH7: =AX7*(1+$BA7) -> 8000 | BI7: 20 | BJ7: 178500 | BK7: =IF(($CB$2/BI7)>0,((($CB$2/BI7))*BJ7),0) -> 178500 | BL7: =PV(((1+$BY$2)^BI7)-1,ROUNDUP($CB$2/BI7-1,0),-BJ7,0,0) -> 0 | BM7: =IF((($Y7+$Z7)>0),((($Y7+$Z7)/2)*$CB$2),0) -> 19406.138 | BN7: =BM7*0.4536 -> 8802.624 | BO7: =IF((($AD7+$AE7)>0),((($AD7+$AE7)/2)*$CB$2),0) -> 2739.69 | BP7: =BO7*0.4536 -> 1242.7234 | BQ7: =IF($Q7<$W$122,BM7,(BM7-((BM7/$Q7)*($Q7-$W$122)))) -> 19406.138 | BR7: =IF($Q7<$W$122,BN7,(BN7-((BN7/$Q7)*($Q7-$W$122)))) -> 8802.624 | BS7: =IF($R7<$X$122,BO7,(BO7-((BO7/$R7)*($R7-$X$122)))) -> 2739.69 | BT7: =IF($R7<$X$122,BP7,(BP7-((BP7/$R7)*($R7-$X$122)))) -> 1242.7234 | BU7: =IF((Y7+Z7+AD7+AE7=0),(BE7+PV($BY$2,$CB$2,-BH7,0,0)),"N/A") -> N/A | BV7: =((BE7/12.46)+BH7)/((AA7+AB7)/2) -> 148.37251 | BW7: =IF($BM7>0,(($BE7+$BL7)/$BM7),0) -> 36.792484 | BX7: =IF($BM7>0,((PV($BY$2,$CB$2,-$BH7))/$BM7),0) -> 5.1374305 | BY7: =BW7+BX7 -> 41.929914 | BZ7: =IF($BN7>0,(($BE7+$BL7)/$BN7),0) -> 81.112178 | CA7: =IF($BN7>0,((PV($BY$2,$CB$2,-$BH7))/$BN7),0) -> 11.325905 | CB7: =BZ7+CA7 -> 92.438083 | CC7: =IF($BO7>0,(($BE7+$BL7)/$BO7),0) -> 260.61343 | CD7: =IF($BO7>0,((PV($BY$2,$CB$2,-$BH7))/$BO7),0) -> 36.390133 | CE7: =CC7+CD7 -> 297.00356 | CF7: =IF($BP7>0,(($BE7+$BL7)/$BP7),0) -> 574.54459 | CG7: =IF($BP7>0,((PV($BY$2,$CB$2,-$BH7))/$BP7),0) -> 80.22516 | CH7: =CF7+CG7 -> 654.76975 | CI7: =IF(Z7>0,((BC7+PV($BY$2,$CB$2,-BF7,0,0))/Z7),0) -> 0 | CJ7: =IF(Y7>0,((BD7+PV($BY$2,$CB$2,-BG7,0,0))/Y7),0) -> 0 | CK7: =IF(AE7>0,((BC7+PV($BY$2,$CB$2,-BF7,0,0))/AE7),0) -> 0 | CL7: =IF(AD7>0,((BD7+PV($BY$2,$CB$2,-BG7,0,0))/AD7),0) -> 0 | CM7: =IF($BQ7>0,(($BE7+$BL7)/$BQ7),0) -> 36.792484 | CN7: =IF($BQ7>0,((PV($BY$2,$CB$2,-$BH7))/$BQ7),0) -> 5.1374305 | CO7: =CM7+CN7 -> 41.929914 | CP7: =IF($BR7>0,(($BE7+$BL7)/$BR7),0) -> 81.112178 | CQ7: =IF($BR7>0,((PV($BY$2,$CB$2,-$BH7))/$BR7),0) -> 11.325905 | CR7: =CP7+CQ7 -> 92.438083 | CS7: =IF($BS7>0,(($BE7+$BL7)/$BS7),0) -> 260.61343 | CT7: =IF($BS7>0,((PV($BY$2,$CB$2,-$BH7))/$BS7),0) -> 36.390133 | CU7: =CS7+CT7 -> 297.00356 | CV7: =IF($BT7>0,(($BE7+$BL7)/$BT7),0) -> 574.54459 | CW7: =IF($BT7>0,((PV($BY$2,$CB$2,-$BH7))/$BT7),0) -> 80.22516 | CX7: =CV7+CW7 -> 654.76975 | CY7: ● Collection System ● Wastewater Treatment ● Effluent Disposal ● Solids Collection, Treatment and Disposal | CZ7: Yes | DA7: No | DB7: 1 to 10 | DC7: No | DD7: ● Lower capital and annual O&M cost than tertiary treatment. ● Easy to integrate public recreation amenities. ● Proven Technology. ● Suited for ammonia removal. | DE7: ● Requires larger land area than tertiary treatment. ● Disinfection of wetland influent may be required. ● May require an NPDES permit. ● May require a pilot study, long-term monitoring and reporting. ● Vegetation harvesting may need to be performed periodically. ● May require fencing and security measures. ● May attract water fowl which could only N issue. ● These systems on the Cape may need to be lined to prevent complete infiltration and allow time for N removal rather than just putting N into groundwater. ● May Need storage of effluent during non-growing season. *Systems not designed to remove phosphorus. Phosphorus removal in these smaller systems requires lengthy retention times and/or use of specialized media to increase sorption **Based on 44,000GPD / 2.08 acre total treatment area for Fields of St Croix constructed wetland system in Lake Elmo, MN | DF7: Yes | DG7: Yes | DH7: Yes | DI7: Yes | DJ7: ● Periodic laboratory analysis of influent and effluent for nutrients, microbes, VOCs and other compounds. ● Periodic laboratory analysis of groundwater for nutrients, microbes, VOCs and other compounds. ● Periodic vegetative assessment. | DK7: $10,000 to $15,000 | DL7: ● 2 to 4 | DM7: ● Periodic laboratory analysis of influent and effluent for nutrients, microbes, VOCs and other compounds. ● Periodic laboratory analysis of groundwater for nutrients, microbes, VOCs and other compounds. ● Periodic vegetative assessment. | DN7: $2,500 to $5,000 | DO7: IP | DQ7: LINKS: Constructed Wetlands - Surface Flow | DR7: (1) Average Removal Rate (P 419) and Median Total Nitrogen Removal Rate (P 308), Median Phosphorus Removal Rate (P 378) from Kadlec and Wallace, Treatment Wetlands 2nd Ed., LINK: https://www.sswm.info/sites/default/files/reference_attachments/KADLEC%20WALLACE%202009%20Treatment%20Wetlands%202nd%20Edition_0.pdf (2) Range of wetland costs (P 132-133) and Wastewater effluent concentrations (converted to lbs/gal) data taken from Table 3-1 from Constructed Wetlands Treatment of Municipal Wastewaters. EPA.1999, LINK: http://water.epa.gov/type/wetlands/restore/upload/constructed-wetlands-design-manual.pdf (3) Range of O&M values from Jim Kreissl, Constructed Wetlands Treatment for Nutrient Treatment for Nutrient Reduction, Presentation at POTW Nutrient Reduction and Efficiency Workshop, 2008. LINK: http://www.tetratech-ffx.com/potwconf/pdf/112008_1200_Kreissl.pdf (4) Average Gal./day/acre derived from Table 2. Ogden, Michael. Costs of Constructed Wetland Systems. Prepublication copy for presentation at WEFTEC '98, 1998. LINK: http://www.brownandcaldwell.com/technicalPapersAbstract.asp?TPID=5720 (5) Flow range of 5 precedents evaluated by Offshoots, Inc., June 2013. (6) 1 acre of FWS CTW at 330 gpd = 45-70 homes/acre for Total Nitrogen. Assumptions : Q = 330 gpd (1.25 m3/d); Ci = 20 mg/l (Total N); Ce = 5 mg/l (Total N); k (areal rate constant) = 10-20 m/yr., C* = 1.5 mg/l (background value). Equates to 0.010 to 0.020 acres/330 gpd. (7) Influent Concentrations: (a) For Primary WWTF Effluent assume: (N) =.0004lbs/gal (52.5mg/l), (P)=7.92 × 10-5 lbs/gal (9.5mg/l), and (b) For Secondary WWTF effluent assume: (N)=.0001 lbs/gal (15mg/l), and (P)=2.92 × 10-5 lbs/gal (3.5mg/l). (8) Improving Winter Performance of Constructed Wetlands for Wastewater Treatment in Northern China: A Review, LINK: http://link.springer.com/article/10.1007%2Fs13157-013-0444-7# (9) USEPA Wetlands Subsurface Flow Fact Sheet, LINK: https://19january2017snapshot.epa.gov/sites/production/files/2015-06/documents/wetlands-subsurface_flow.pdf (10) Without the use of water aeration such as Solar Bees, Free Water Surface systems will not typically meet discharge limits for BOD and TSS . However, water aeration augments protozoan, invertebrate, and fish populations which harvest large amounts of algae. estimates/acre. *Systems not designed to remove phosphorus. Phosphorus removal in these smaller systems requires lengthy retention times and/or use of specialized media to increase sorption **Based on 44,000GPD / 2.08 acre total treatment area for Fields of St Croix constructed wetland system in Lake Elmo, MN (11) (11) Calculation Basis for Calculator - For No Collection System - (a) Need to add effluent disposal costs; (b) Use pricing for infiltration basins ($3 to $5/sqft). Average $4/sqft; (c) Metric is gpd; (d) Assumed flow for infiltration basin is approximately 4 gpd/sqft (fine to course sandy soils); and (e) Modify construction costs by adding the following - input flow (gpd) divided by 4 gpd/sqft times $4/sqft. (12) Calculation Basis for Calculator - For Collection System, Treatment and Disposal - (a) Need to add collection, system treatment and effluent disposal costs; (b) Use pricing for infiltration basins ($3 to $5/sqft). Average $4/sqft; (c) Metric is gpd; (d) Assumed flow for infiltration basin is approximately 4 gpd/sqft (fine to course sandy soils); (e) Modify construction costs by adding the following - input flow (gpd) divided by 4 gpd/sqft times $4/sqft (f) • Use pricing for collection system from matrix ($3 to $5/sqft). Average $4/sqft (g) Need equation for size (cost) of collection system based on metric of gpd. Alternative is to use costs from MVP after targeting area to sewer; and (h) Need costs or cost curve to size and cost a primary WWTF. Alternative is to use costs from MVP after targeting area to sewer. | DS7: Requires more data for regulatory approval. Pilot study likely, requiring establishment of baseline water quality and monitoring once pilot project is online. The pilot study results will likely be used to determine the effectiveness and efficiency of the technology before allowing full implementation. Other wetlands type systems (e.g. Ocean Arks) utilizing plants in reactor basins have shown that little of the nutrients are taken up by plants and that the roots and root hairs mimic fixed film reactors thereby providing the bulk of the treatment. In natural wetlands, most of denitrification occurs through anoxic sediments with labile carbon. These are the main conditions that a constructed wetland would have to mimic. It would seem that these should accept secondary treated effluent at a minimum, not primary treatment. The removal rates exceed natural wetlands and therefore would have to be managed carefully to achieve these high removal rates. May required a NPDES discharge permit. Level of pretreatment, particularly is primary treatment sufficient or may require a minimum of secondary treatment. Need storage of effluent during non-growing season. There is a wide range of reported removal rates because efficiency depends on many factors, e.g., carbon availability, DO, fraction N as NO3, loading rate, etc. Review Kadlec for data on systems with similar operating conditions to those proposed rather than just taking an average value. Also, there are some wastewater treatment wetlands used year-round in cold climates and some operating techniques have been developed to improve performance during cold months. The vegetation aren't "filtering" anything but providing substrate and a carbon source. Constructed Wetlands with Free Water Surface for wastewater and stormwater treatment: The projected nitrogen and phosphorus removal contained in the matrix on a percentage basis is higher than may have reported by other parties. Nutrient removal may vary depending on the water depth, temperature, hydraulic residence time, hydro-period (e.g. less light in the winter means plant and algae activity diminishes) and density and type of plant species. Nutrient transformation is also provided by algae and bacteria in addition to the plant uptake mentioned. Shallower water depths may promote greater denitrification. Nutrient removal rate will diminish when system is overloaded, so setting the effluent loading rate is key to providing sustained long term treatment. Having disturbed soils as indicated may not increase hydraulic residence time. Siting in previously disturbed soils requires careful geotechnical investigation. It indicates ideal if parcel intersects with 50 – 100 foot “buffer zone.” I’m not sure if this refers to the 100-foot buffer zone. If the constructed wetland is proposed within the wetland buffer zone, it would require permitting pursuant to Wetland regulations. A setback of at least 50-horizontal feet, if not greater, between the treatment system and a wetland resource area may be advisable to prevent short circuiting of the treatment. Groundwater mound forms under the constructed wetland due to the presence of the permanent pool. This mound will merge with the piezometric surface of the water table. Since nitrates are highly soluble, once they get in the groundwater, they will be able potentially at the speed of the wetting front. The soil in such an instance may serve as main mechanism to slow the nitrate movement. Closer distance to wetland means more nitrates potentially may flow into the wetland more quickly. This would argue for establishing greater wetland setback. Vegetation may need to be harvested on regular basis to provide actual nutrient removal. Otherwise vegetation dieback in winter releases nutrients in constructed treatment wetland. Comments/questions asks “wetland effluent discharged into a water body or used for open space irrigation.” Discharging to wetland resource area requires permitting pursuant to Wetlands regulations. Provided a NPDES individual wastewater authorization is granted, Wetlands issuing authority would have to presume water quality criteria is met and could only review construction related impacts. All wetland resource areas are not equal. Larger systems such as rivers or ocean are able to assimilate greater amounts of nutrients through dilution than smaller wetland systems. Plus the nature of the wetland, coastal or inland is important. To reduce nitrogen effects on coastal wetlands, the treatment system discharge should ideally be directed to 1) recharge, and 2) inland rivers of sufficient size to dilute any nutrients remaining in the effluent. Phosphorus remaining in the effluent is concern for inland rivers, so increasing the hydraulic residence time and disposing the treated effluent via recharge beds would be preferable approach as far as wetlands permitting is concerned. Plus, recharge would assist in maintaining base flows to nearby wetland resource areas.
B8: Constructed Wetlands - Subsurface Flow | D8: 102 | E8: After primary treatment in a septic tank or WWTF or secondary treatment at a WWTF, wastewater is treated by pumping water slowly through subsurface gravel beds where it is filtered through plant root zones and soil media. Water flows 3-8" under the surface to prevent public exposure to wastewater and mosquito breeding. A combination of horizontal and vertical flow subsurface systems must be utilized to provide total nitrogen removal. The reclaimed water is generally discharged into a leach field or similar system for discharge to the groundwater. The reclaimed water can also be discharged into a water body or used for open space irrigation after treatment. However, more strict permitting and water quality standards must be met if not discharging to groundwater. This technology can be used as an alternative to conventional polishing (i.e. mechanical and/or chemical) of secondary and advanced wastewater treatment. This is a source Reduction technology. | F8: Septic Tank Effluent Primary Effluent Secondary Effluent | G8: 20 - 75 mg/L N 4 - 8 mg/L P | H8: Nitrogen Phosphorus Reduce amount of Direct Discharge to Groundwater | I8: ● MassDEP ● Department of Public Works ● Board of Health ● Conservation Commission ● Natural Heritage ● Mass Historical Commission ● US Army Corps or Engineers ● Division of Marine and Fisheries ● US Fish and Wildlife Service ● Building Department ● Land Owner | J8: ● Undeveloped land > 1 Acre. ● Outside all wetlands resource areas. ● Outside 100 year flood hazard zone. ● Groundwater separation - GW depth > 4 feet. ● Not within priority habitat areas. ● Not within protected open space. ● Benefit if site has clay based soils, has disturbed soils, parcel intersects with 50 to 100 foot Buffer zone, has municipal ownership. ● No steep topography. | K8: P 2 - Flow per Home (gpd) AN 2 - Project Cost Factor (%) BU 2 - Discount Rate (% APR) BX 2 - Planning Period (Nper in years) N 8 - Acres Q 97 - Influent Nitrogen Load R 97 - Influent Phosphorus Load | L8: Acres | M8: =N8*16500 -> 16500 | N8: 1 | O8: N/A | P8: =M8/$P$2 -> 103.125 | Q8: 26.25 | R8: =$R$107 -> 6 | S8: =100*(1-40*(1-0.8)/$Q8) -> 69.52381 | T8: =100*(1-40*(1-0.95)/$Q8) -> 92.380952 | U8: 50 | V8: 90 | W8: =($Q$53-($Q$53*(($T$53+$S$53)/2)/100)-(Q8-(Q8*((T8+S8)/2)/100)))/($Q$53-($Q$53*(($T$53+$S$53)/2)/100)) -> 0.80952381 | X8: L | Y8: =((($Q8)*($S8/100))*(8.34*($M8/1000000)))*365 -> 916.65461 | Z8: =((($Q8)*($T8/100))*(8.34*($M8/1000000)))*365 -> 1218.0205 | AA8: =Y8*0.4536 -> 415.79453 | AB8: =Z8*0.4536 -> 552.4941 | AC8: =(AA8+AB8)/2 -> 484.14432 | AD8: =((($R8)*($U8/100))*(8.34*($M8/1000000)))*365 -> 150.68295 | AE8: =((($R8)*($V8/100))*(8.34*($M8/1000000)))*365 -> 271.22931 | AF8: =AD8*0.4536 -> 68.349786 | AG8: =AE8*0.4536 -> 123.02962 | AJ8: =ROUND((-0.000006*M8^2+26.364*M8+16667),-3) -> 450000 | AM8: =AJ8*($AA$109/$AA$107) -> 450000 | AN8: 0.85 | AO8: 0 | AR8: =(AM8*(1+$AN$2))+AO8 -> 630000 | AU8: =ROUND((6.2613*M8^0.747),-3) -> 9000 | AX8: =AU8*($AA$109/$AA$107) -> 9000 | AY8: 0.75 | AZ8: 0.2 | BA8: 0 | BB8: ● Increase cost for pilot study. ● Increase cost for permitting. | BE8: =AR8*(1+$AZ8) -> 756000 | BH8: =AX8*(1+$BA8) -> 9000 | BI8: 20 | BJ8: =BE8*0.25 -> 189000 | BK8: =IF(($CB$2/BI8)>0,((($CB$2/BI8))*BJ8),0) -> 189000 | BL8: =PV(((1+$BY$2)^BI8)-1,ROUNDUP($CB$2/BI8-1,0),-BJ8,0,0) -> 0 | BM8: =IF((($Y8+$Z8)>0),((($Y8+$Z8)/2)*$CB$2),0) -> 21346.751 | BN8: =BM8*0.4536 -> 9682.8864 | BO8: =IF((($AD8+$AE8)>0),((($AD8+$AE8)/2)*$CB$2),0) -> 4219.1226 | BP8: =BO8*0.4536 -> 1913.794 | BQ8: =IF($Q8<$W$122,BM8,(BM8-((BM8/$Q8)*($Q8-$W$122)))) -> 21346.751 | BR8: =IF($Q8<$W$122,BN8,(BN8-((BN8/$Q8)*($Q8-$W$122)))) -> 9682.8864 | BS8: =IF($R8<$X$122,BO8,(BO8-((BO8/$R8)*($R8-$X$122)))) -> 4219.1226 | BT8: =IF($R8<$X$122,BP8,(BP8-((BP8/$R8)*($R8-$X$122)))) -> 1913.794 | BU8: =IF((Y8+Z8+AD8+AE8=0),(BE8+PV($BY$2,$CB$2,-BH8,0,0)),"N/A") -> N/A | BV8: =((BE8/12.46)+BH8)/((AA8+AB8)/2) -> 143.91196 | BW8: =IF($BM8>0,(($BE8+$BL8)/$BM8),0) -> 35.415225 | BX8: =IF($BM8>0,((PV($BY$2,$CB$2,-$BH8))/$BM8),0) -> 5.2541903 | BY8: =BW8+BX8 -> 40.669415 | BZ8: =IF($BN8>0,(($BE8+$BL8)/$BN8),0) -> 78.075893 | CA8: =IF($BN8>0,((PV($BY$2,$CB$2,-$BH8))/$BN8),0) -> 11.583312 | CB8: =BZ8+CA8 -> 89.659205 | CC8: =IF($BO8>0,(($BE8+$BL8)/$BO8),0) -> 179.18417 | CD8: =IF($BO8>0,((PV($BY$2,$CB$2,-$BH8))/$BO8),0) -> 26.583701 | CE8: =CC8+CD8 -> 205.76788 | CF8: =IF($BP8>0,(($BE8+$BL8)/$BP8),0) -> 395.02684 | CG8: =IF($BP8>0,((PV($BY$2,$CB$2,-$BH8))/$BP8),0) -> 58.606042 | CH8: =CF8+CG8 -> 453.63288 | CI8: =IF(Z8>0,((BC8+PV($BY$2,$CB$2,-BF8,0,0))/Z8),0) -> 0 | CJ8: =IF(Y8>0,((BD8+PV($BY$2,$CB$2,-BG8,0,0))/Y8),0) -> 0 | CK8: =IF(AE8>0,((BC8+PV($BY$2,$CB$2,-BF8,0,0))/AE8),0) -> 0 | CL8: =IF(AD8>0,((BD8+PV($BY$2,$CB$2,-BG8,0,0))/AD8),0) -> 0 | CM8: =IF($BQ8>0,(($BE8+$BL8)/$BQ8),0) -> 35.415225 | CN8: =IF($BQ8>0,((PV($BY$2,$CB$2,-$BH8))/$BQ8),0) -> 5.2541903 | CO8: =CM8+CN8 -> 40.669415 | CP8: =IF($BR8>0,(($BE8+$BL8)/$BR8),0) -> 78.075893 | CQ8: =IF($BR8>0,((PV($BY$2,$CB$2,-$BH8))/$BR8),0) -> 11.583312 | CR8: =CP8+CQ8 -> 89.659205 | CS8: =IF($BS8>0,(($BE8+$BL8)/$BS8),0) -> 179.18417 | CT8: =IF($BS8>0,((PV($BY$2,$CB$2,-$BH8))/$BS8),0) -> 26.583701 | CU8: =CS8+CT8 -> 205.76788 | CV8: =IF($BT8>0,(($BE8+$BL8)/$BT8),0) -> 395.02684 | CW8: =IF($BT8>0,((PV($BY$2,$CB$2,-$BH8))/$BT8),0) -> 58.606042 | CX8: =CV8+CW8 -> 453.63288 | CY8: ● Collection System ● Wastewater Treatment ● Effluent Disposal ● Solids Collection, Treatment and Disposal | CZ8: Yes | DA8: No | DB8: 1 to 10 | DC8: No | DD8: ● Very efficient and requires less land area than Free Water Surface wetlands. ● Water stays below surface so may not require disinfection. ● Lower capital and annual O&M cost than secondary and tertiary treatment. ● Easy to integrate public recreation amenities. ● Proven Technology. ● Suited for nitrate and nitrate removal | DE8: ● Higher maintenance in first few years. ● May require carbon source initially. ● Can become clogged over time. Phosphorous removal may decline over time. ● May require fencing and security measures. ● May attract water fowl which could aggravate N issue. ● In addition, on the Cape, these systems may need to be lined to prevent complete infiltration and allow time for N removal rather than just putting N into groundwater. | DF8: Yes | DG8: Yes | DH8: Yes | DI8: Yes | DJ8: ● Periodic laboratory analysis of influent and effluent for nutrients, microbes, VOCs and other compounds. ● Periodic laboratory analysis of groundwater for nutrients, microbes, VOCs and other compounds. ● Periodic vegetative assessment. | DK8: $10,000 to $15,000 | DL8: ● 2 to 4 | DM8: ● Periodic laboratory analysis of influent and effluent for nutrients, microbes, VOCs and other compounds. ● Periodic laboratory analysis of groundwater for nutrients, microbes, VOCs and other compounds. ● Periodic vegetative assessment. | DN8: $2,500 to $5,000 | DO8: IP | DQ8: LINKS: Constructed Wetlands - Subsurface Flow | DR8: (1).Average Removal Efficiency (P 417) and Median Total Nitrogen Removal Rate (P 309) from Kadlec and Wallace. Treatment Wetlands, 2nd Ed., LINK: https://www.sswm.info/sites/default/files/reference_attachments/KADLEC%20WALLACE%202009%20Treatment%20Wetlands%202nd%20Edition_0.pdf (2) Range of cost and O&M values adjusted for inflation from Jim Kreissl, Constructed Wetlands Treatment for Nutrient Treatment for Nutrient Reduction, Presentation at POTW Nutrient Reduction and Efficiency Workshop, 2008. LINK: http://www.tetratech-ffx.com/potwconf/pdf/112008_1200_Kreissl.pdf (3) Average Removal Rate from Vymazal Jan. Removal of Phosphorus in Constructed Wetlands with Horizontal Sub-Surface Flow in the Czech Republic. Water, Air and Soil Pollution: Focus. June 2004, Volume 4, Issue 2-3, pp. 657-670. LINK: https://link.springer.com/article/10.1023/B:WAFO.0000028385.63075.51 (4) Gal./day/acre Value averaged from Table 6. Ogden, Michael. Costs of Constructed Wetland Systems. Prepublication copy for presentation at WEFTEC '98, 1998. LINK: http://www.brownandcaldwell.com/technicalPapersAbstract.asp?TPID=5720 (5) Data on Phosphorus removal from Subsurface flow wetlands is highly varied and dependent on retention time and media used. This value is calculated at 50% of the phosphorus removal rate of a FWS constructed wetland system. (6) 1 acre of SSF CTW will treat 50-75 homes/acre Total Nitrogen at 330 gpd. Assumptions: Q= 330 gpd (1.25 mg/l); Ci = 20 mg/l; Ce = 5 mg/l (TN), k (areal removal rate constant): 4-15 m/yr. C* = 0 mg/l (background). Equates to 0.015 to 0.025 acres/330 gpd. (7) USEPA Wetlands Subsurface Flow Fact Sheet, LINK: https://19january2017snapshot.epa.gov/sites/production/files/2015-06/documents/wetlands-subsurface_flow.pdf | DS8: Requires more data for regulatory approval. Pilot study likely, requiring establishment of baseline water quality and monitoring once pilot project is online. The pilot study results will likely be used to determine the effectiveness and efficiency of the technology before allowing full implementation. Other wetlands type systems (e.g. Ocean Arks) utilizing plants in reactor basins have shown that little of the nutrients are taken up by plants and that the roots and root hairs mimic fixed film reactors thereby providing the bulk of the treatment. In natural wetlands, most of denitrification occurs through anoxic sediments with labile carbon. These are the main conditions that a constructed wetland would have to mimic. It would seem that these should accept secondary treated effluent at a minimum, not primary treatment. The removal rates exceed natural wetlands and therefore would have to be managed carefully to achieve these high removal rates. Wetland effluent discharged into a leach field or similar system: (a) Systems not designed to remove phosphorus. Phosphorus removal in these smaller systems requires lengthy retention times and/or use of specialized media to increase sorption; and (b) Based on 44,000GPD / 2.08 acre total treatment area for Fields of St Croix constructed wetland system in Lake Elmo, MN.
B9: Constructed Wetlands - Groundwater Treatment | D9: 103 | E9: After collecting groundwater with higher nitrogen concentrations, groundwater is treated by pumping water slowly through subsurface gravel beds where it is filtered through plant root zones and soil media. Water flows 3" to 8" under the surface to prevent public exposure to wastewater and mosquito breeding. A combination of horizontal and vertical flow subsurface systems must be utilized to provide total nitrogen removal. These systems occasionally use additional treatment steps to remove nutrients from wastewater. The preferred disposal method is an infiltrator chamber system similar to a leach field but larger in size and designed for overflows. The reclaimed water is generally discharged into a leach field or similar system for discharge to the groundwater. The reclaimed water can also be discharged into a water body or used for open space irrigation after treatment. However, more strict permitting and water quality standards must be met if not discharging to groundwater. This is a groundwater Remediation technology. | F9: Groundwater | G9: 3 - 35 mg/L N 1 - 5 mg/L P | H9: Nitrogen Phosphorus Reduce amount of Direct Discharge to Groundwater | I9: ● MassDEP ● Department of Public Works ● Board of Health ● Conservation Commission ● Natural Heritage ● Mass Historical Commission ● US Army Corps or Engineers ● Division of Marine and Fisheries ● US Fish and Wildlife Service ● Building Department ● Land Owner | J9: ● Undeveloped land > 1 Acre. ● Outside all wetlands resource areas. ● Outside 100 year flood hazard zone. ● Groundwater separation - GW depth > 4 feet. ● Not within priority habitat areas. ● Not within protected open space. ● Benefit if site has clay based soils, has disturbed soils, parcel intersects with 50 to 100 foot Buffer zone, has municipal ownership. ● No steep topography. | K9: P 2 - Flow per Home (gpd) AN 2 - Project Cost Factor (%) BU 2 - Discount Rate (% APR) BX 2 - Planning Period (Nper in years) N 9 - Acres T 97 - Influent Nitrogen Load U 97 - Influent Phosphorus Load | L9: Acres | M9: =N9*16500 -> 16500 | N9: 1 | P9: =M9/$P$2 -> 103.125 | Q9: =T107 -> 6 | R9: =$R$107 -> 6 | S9: 85 | T9: 95 | U9: 50 | V9: 90 | W9: =($Q$53-($Q$53*(($T$53+$S$53)/2)/100)-(Q9-(Q9*((T9+S9)/2)/100)))/($Q$53-($Q$53*(($T$53+$S$53)/2)/100)) -> 0.97714286 | X9: L | Y9: =((($Q9)*($S9/100))*(8.34*($M9/1000000)))*365 -> 256.16101 | Z9: =((($Q9)*($T9/100))*(8.34*($M9/1000000)))*365 -> 286.2976 | AA9: =Y9*0.4536 -> 116.19464 | AB9: =Z9*0.4536 -> 129.86459 | AC9: =(AA9+AB9)/2 -> 123.02962 | AD9: =((($R9)*($U9/100))*(8.34*($M9/1000000)))*365 -> 150.68295 | AE9: =((($R9)*($V9/100))*(8.34*($M9/1000000)))*365 -> 271.22931 | AF9: =AD9*0.4536 -> 68.349786 | AG9: =AE9*0.4536 -> 123.02962 | AH9: 150000 | AI9: 300000 | AJ9: =(AH9+AI9)/2 -> 225000 | AK9: =AH9*($AA$109/$AA$107) -> 150000 | AL9: =AI9*($AA$109/$AA$107) -> 300000 | AM9: =AJ9*($AA$109/$AA$107) -> 225000 | AN9: 0.85 | AO9: 250000 | AP9: =(AK9*(1+$AN$2))+AO9 -> 460000 | AQ9: =(AL9*(1+$AN$2))+AO9 -> 670000 | AR9: =(AP9+AQ9)/2 -> 565000 | AS9: 5000 | AT9: 10000 | AU9: =(AS9+AT9)/2 -> 7500 | AV9: =AS9*($AA$109/$AA$107) -> 5000 | AW9: =AT9*($AA$109/$AA$107) -> 10000 | AX9: =AU9*($AA$109/$AA$107) -> 7500 | AY9: 0.75 | AZ9: 0.2 | BA9: 0 | BB9: ● Increase cost for pilot study. ● Increase cost for permitting. | BC9: =AP9*(1+$AZ9) -> 552000 | BD9: =AQ9*(1+$AZ9) -> 804000 | BE9: =AR9*(1+$AZ9) -> 678000 | BF9: =AV9*(1+$BA9) -> 5000 | BG9: =AW9*(1+$BA9) -> 10000 | BH9: =AX9*(1+$BA9) -> 7500 | BI9: 20 | BJ9: =BE9*0.25 -> 169500 | BK9: =IF(($CB$2/BI9)>0,((($CB$2/BI9))*BJ9),0) -> 169500 | BL9: =PV(((1+$BY$2)^BI9)-1,ROUNDUP($CB$2/BI9-1,0),-BJ9,0,0) -> 0 | BM9: =IF((($Y9+$Z9)>0),((($Y9+$Z9)/2)*$CB$2),0) -> 5424.5862 | BN9: =BM9*0.4536 -> 2460.5923 | BO9: =IF((($AD9+$AE9)>0),((($AD9+$AE9)/2)*$CB$2),0) -> 4219.1226 | BP9: =BO9*0.4536 -> 1913.794 | BQ9: =IF($Q9<$W$122,BM9,(BM9-((BM9/$Q9)*($Q9-$W$122)))) -> 5424.5862 | BR9: =IF($Q9<$W$122,BN9,(BN9-((BN9/$Q9)*($Q9-$W$122)))) -> 2460.5923 | BS9: =IF($R9<$X$122,BO9,(BO9-((BO9/$R9)*($R9-$X$122)))) -> 4219.1226 | BT9: =IF($R9<$X$122,BP9,(BP9-((BP9/$R9)*($R9-$X$122)))) -> 1913.794 | BU9: =IF((Y9+Z9+AD9+AE9=0),(BE9+PV($BY$2,$CB$2,-BH9,0,0)),"N/A") -> N/A | BV9: =((BE9/12.46)+BH9)/((AA9+AB9)/2) -> 503.2457 | BW9: =IF($BM9>0,(($BE9+$BL9)/$BM9),0) -> 124.98649 | BX9: =IF($BM9>0,((PV($BY$2,$CB$2,-$BH9))/$BM9),0) -> 17.230176 | BY9: =BW9+BX9 -> 142.21667 | BZ9: =IF($BN9>0,(($BE9+$BL9)/$BN9),0) -> 275.54341 | CA9: =IF($BN9>0,((PV($BY$2,$CB$2,-$BH9))/$BN9),0) -> 37.985398 | CB9: =BZ9+CA9 -> 313.52881 | CC9: =IF($BO9>0,(($BE9+$BL9)/$BO9),0) -> 160.69692 | CD9: =IF($BO9>0,((PV($BY$2,$CB$2,-$BH9))/$BO9),0) -> 22.153084 | CE9: =CC9+CD9 -> 182.85 | CF9: =IF($BP9>0,(($BE9+$BL9)/$BP9),0) -> 354.2701 | CG9: =IF($BP9>0,((PV($BY$2,$CB$2,-$BH9))/$BP9),0) -> 48.838369 | CH9: =CF9+CG9 -> 403.10847 | CI9: =IF(Z9>0,((BC9+PV($BY$2,$CB$2,-BF9,0,0))/Z9),0) -> 2145.708 | CJ9: =IF(Y9>0,((BD9+PV($BY$2,$CB$2,-BG9,0,0))/Y9),0) -> 3625.15 | CK9: =IF(AE9>0,((BC9+PV($BY$2,$CB$2,-BF9,0,0))/AE9),0) -> 2264.914 | CL9: =IF(AD9>0,((BD9+PV($BY$2,$CB$2,-BG9,0,0))/AD9),0) -> 6162.755 | CM9: =IF($BQ9>0,(($BE9+$BL9)/$BQ9),0) -> 124.98649 | CN9: =IF($BQ9>0,((PV($BY$2,$CB$2,-$BH9))/$BQ9),0) -> 17.230176 | CO9: =CM9+CN9 -> 142.21667 | CP9: =IF($BR9>0,(($BE9+$BL9)/$BR9),0) -> 275.54341 | CQ9: =IF($BR9>0,((PV($BY$2,$CB$2,-$BH9))/$BR9),0) -> 37.985398 | CR9: =CP9+CQ9 -> 313.52881 | CS9: =IF($BS9>0,(($BE9+$BL9)/$BS9),0) -> 160.69692 | CT9: =IF($BS9>0,((PV($BY$2,$CB$2,-$BH9))/$BS9),0) -> 22.153084 | CU9: =CS9+CT9 -> 182.85 | CV9: =IF($BT9>0,(($BE9+$BL9)/$BT9),0) -> 354.2701 | CW9: =IF($BT9>0,((PV($BY$2,$CB$2,-$BH9))/$BT9),0) -> 48.838369 | CX9: =CV9+CW9 -> 403.10847 | CY9: ● Collection System ● Wastewater Treatment ● Effluent Disposal ● Solids Collection, Treatment and Disposal | CZ9: Yes | DA9: No | DB9: 1 to 10 | DC9: No | DD9: ● Highly scalable and customizable. ● Lower capital and annual O&M cost than secondary and tertiary treatment. ● Easy to integrate public recreation amenities. ● Proven Technology. ● Suited for nitrate and nitrite removal | DE9: ● Higher maintenance in first few years. ● May require carbon source initially. ● Can become clogged over time. Phosphorous removal may decline over time. ● May require fencing and security measures. ● May attract water fowl which could aggravate N issue. ● In addition, on the Cape, these systems may need to be lined to prevent complete infiltration and allow time for N removal rather than just putting N into groundwater. | DF9: Yes | DG9: Yes | DH9: Yes | DI9: Yes | DJ9: ● Periodic laboratory analysis of influent and effluent for nutrients, microbes, VOCs and other compounds. ● Periodic laboratory analysis of groundwater for nutrients, microbes, VOCs and other compounds. ● Periodic vegetative assessment. | DK9: $10,000 to $15,000 | DL9: ● 2 to 4 | DM9: ● Periodic laboratory analysis of influent and effluent for nutrients, microbes, VOCs and other compounds. ● Periodic laboratory analysis of groundwater for nutrients, microbes, VOCs and other compounds. ● Periodic vegetative assessment. | DN9: $2,500 to $5,000 | DO9: IP | DQ9: LINKS: Constructed Wetlands - Groundwater Treatment | DR9: (1) Removal efficiency based on Fields of St. Croix constructed wetland project. Data provided by Bruce Douglas of Natural Systems Utilities. 2012. Interview. (2) Median Total Nitrogen Removal Rate from Kadlec and Wallace. Treatment Wetlands 2nd Ed. (p 309). LINK: https://www.sswm.info/sites/default/files/reference_attachments/KADLEC%20WALLACE%202009%20Treatment%20Wetlands%202nd%20Edition_0.pdf (3) Capital costs of Fields of St. Croix constructed wetlands system derived by multiplying number of homes connected to system (133) by capital cost per connection ($5524) to derive total capital cost (731,159). This number was then divided by the total treatment area of the project (2.08 acres) to give $351,519/acre which was adjusted for inflation. Data derived from Table 2. Costs for Cluster Wastewater Systems. Scott. D Wallace and Dennis F. Hallahan. Proceedings of the 2005 National Onsite Wastewater Recycling Assoc. National Conference. (4) O&M costs derived by multiplying monthly service charge per connection by total number of connections for the Fields of St. Croix project. The result was then divided by the total treatment area of the project (2.08 acres). Table 3. Costs for Cluster Wastewater Systems. Scott. D Wallace and Dennis F. Hallahan. Proceedings of the 2005 National Onsite Wastewater Recycling Assoc. National Conference. (5) Wastewater effluent concentrations converted to lbs/gal. Data taken from Table 3-1. Constructed Wetlands Treatment of Municipal Wastewaters. EPA. 1999. (6) Costs per connection were extrapolated based on total number of connections to derive capital cost. Capital costs were then divided by design flow (GPD) for each project to derive $/Gal. Data from Tables 2 and 3. Costs for Cluster Wastewater Systems. Scott. D Wallace and Dennis F. Hallahan. Proceedings of the 2005 National Onsite Wastewater Recycling Assoc. National Conference. (7) Monthly service charge costs were multiplied by number of homes connected to system and then by 12 to determine yearly service charge. This product was then divided by design flow to derive $/gal/yr. However, this is the cost to users, not necessarily the O&M cost, cause it includes $ paid by users for future necessary replacements. Data from Tables 2, 3 and 4. Costs for Cluster Wastewater Systems. Scott. D Wallace and Dennis F. Hallahan. Proceedings of the 2005 National Onsite Wastewater Recycling Assoc. National Conference. (8) Flow range of 3 precedents evaluated by Offshoots, Inc., June 2013. (9) 1 acre of SSF CTW will treat 50-75 homes/acre Total Nitrogen at 330 gpd. Assumptions: Q= 330 gpd (1.25 mg/l); Ci = 20 mg/l; Ce = 5 mg/l (TN), k (areal removal rate constant): 4-15 m/yr. C* = 0 mg/l (background). Equates to 0.015 to 0.025 acres/330 gpd. (10) USEPA Wetlands Subsurface Flow Fact Sheet, LINK: https://19january2017snapshot.epa.gov/sites/production/files/2015-06/documents/wetlands-subsurface_flow.pdf | DS9: Requires more data for regulatory approval. Pilot study likely, requiring establishment of baseline water quality and monitoring once pilot project is online. The pilot study results will likely be used to determine the effectiveness and efficiency of the technology before allowing full implementation. Other wetlands type systems (e.g. Ocean Arks) utilizing plants in reactor basins have shown that little of the nutrients are taken up by plants and that the roots and root hairs mimic fixed film reactors thereby providing the bulk of the treatment. In natural wetlands, most of denitrification occurs through anoxic sediments with labile carbon. These are the main conditions that a constructed wetland would have to mimic. It would seem that these should accept secondary treated effluent at a minimum, not primary treatment. The removal rates exceed natural wetlands and therefore would have to be managed carefully to achieve these high removal rates. For flows up to 10,000 gpd proposes only septic tank pretreatment. Regardless of the level of treatment, how would this be effective during the non-growing season since unless some type of storage is required, but doubtful whether these smaller type developments would have the available land. UNH stormwater center research shows high NO3-N and TP removal rates. Establishing setback to wetland resource areas important to reduce nitrogen movement through groundwater mound to wetland. Comments/questions asks “wetland effluent discharged into a water body or used for open space irrigation.” Wetlands Program would prefer recharge of the treated effluent as disposal mechanism. Discharge to inland rivers of sufficient size to promote dilution would be second choice.
B10: Hydroponic Treatment | D10: 104 | E10: Hydroponic treatment and Photo Bioreactors (PBRs - Clears) are natural systems that treat septic tank effluent or primarily treated wastewater. With Hydroponic Treatment, aeration and clarification chambers are combined with constructed wetlands to treat the influent. The wetlands are a series of chambers allowing for microbial communities to engage with and treat the wastewater. Plants are often suspended on racks with their root systems doing the work. Solids removal is generally onsite, after which water is pumped through the gravel filled cells (similar to subsurface wetlands.) This process transfers more oxygen to the wastewater and completes the pollutant removal process. The wetland effluent can be discharged into a water body or used for open space irrigation after treatment. The wetland effluent can also be discharged into a leach field or similar system for discharge to the groundwater. This technology can also be used for wastewater treatment with primary, secondary, or advanced effluent generally for flows less than 500,000 gpd. This is a source Reduction technology. | F10: Raw Sewage Septic Tank Effluent Primary Effluent | G10: 20 - 75 mg/L N 4 - 8 mg/L P | H10: Nitrogen Phosphorus | I10: ● MassDEP ● Department of Public Works ● Board of Health ● Conservation Commission ● Natural Heritage ● Mass Historical Commission ● US Army Corps or Engineers ● Division of Marine and Fisheries ● US Fish and Wildlife Service ● Building Department ● Land Owner | J10: ● Adjacent to housing and development. | K10: P 2 - Flow per Home (gpd) AN 2 - Project Cost Factor (%) BU 2 - Discount Rate (% APR) BX 2 - Planning Period (Nper in years) M 10 - Flow (gpd) T 113 - Influent Nitrogen Load U 113 - Influent Phosphorus Load | L10: Each | M10: 10000 | N10: N/A | O10: N/A | P10: =M10/$P$2 -> 62.5 | Q10: 26.25 | R10: =U107 -> 1 | S10: =100*(1-40*(1-0.58)/$Q10) -> 36 | T10: =100*(1-40*(1-0.98)/$Q10) -> 96.952381 | U10: 25 | V10: 75 | W10: =($Q$53-($Q$53*(($T$53+$S$53)/2)/100)-(Q10-(Q10*((T10+S10)/2)/100)))/($Q$53-($Q$53*(($T$53+$S$53)/2)/100)) -> 0.6647619 | X10: L | Y10: =((($Q10)*($S10/100))*(8.34*($M10/1000000)))*365 -> 287.66745 | Z10: =((($Q10)*($T10/100))*(8.34*($M10/1000000)))*365 -> 774.72345 | AA10: =Y10*0.4536 -> 130.48596 | AB10: =Z10*0.4536 -> 351.41456 | AC10: =(AA10+AB10)/2 -> 240.95026 | AD10: =((($R10)*($U10/100))*(8.34*($M10/1000000)))*365 -> 7.61025 | AE10: =((($R10)*($V10/100))*(8.34*($M10/1000000)))*365 -> 22.83075 | AF10: =AD10*0.4536 -> 3.4520094 | AG10: =AE10*0.4536 -> 10.356028 | AH10: 800000 | AI10: 1000000 | AJ10: =(AH10+AI10)/2 -> 900000 | AK10: =AH10*($AA$109/$AA$107) -> 800000 | AL10: =AI10*($AA$109/$AA$107) -> 1000000 | AM10: =AJ10*($AA$109/$AA$107) -> 900000 | AN10: 0.45 | AO10: =$AA$121 -> 250000 | AP10: =(AK10*(1+$AN$2))+AO10 -> 1370000 | AQ10: =(AL10*(1+$AN$2))+AO10 -> 1650000 | AR10: =(AP10+AQ10)/2 -> 1510000 | AS10: 450000 | AT10: 550000 | AU10: =(AS10+AT10)/2 -> 500000 | AV10: =AS10*($AA$109/$AA$107) -> 450000 | AW10: =AT10*($AA$109/$AA$107) -> 550000 | AX10: =AU10*($AA$109/$AA$107) -> 500000 | AY10: 0.5 | AZ10: 0.1 | BA10: 0 | BB10: ● Increase cost for permitting. | BC10: =AP10*(1+$AZ10) -> 1507000 | BD10: =AQ10*(1+$AZ10) -> 1815000 | BE10: =AR10*(1+$AZ10) -> 1661000 | BF10: =AV10*(1+$BA10) -> 450000 | BG10: =AW10*(1+$BA10) -> 550000 | BH10: =AX10*(1+$BA10) -> 500000 | BI10: 10 | BJ10: =BE10*0.25 -> 415250 | BK10: =IF(($CB$2/BI10)>0,((($CB$2/BI10))*BJ10),0) -> 830500 | BL10: =PV(((1+$BY$2)^BI10)-1,ROUNDUP($CB$2/BI10-1,0),-BJ10,0,0) -> 254927.48 | BM10: =IF((($Y10+$Z10)>0),((($Y10+$Z10)/2)*$CB$2),0) -> 10623.909 | BN10: =BM10*0.4536 -> 4819.0051 | BO10: =IF((($AD10+$AE10)>0),((($AD10+$AE10)/2)*$CB$2),0) -> 304.41 | BP10: =BO10*0.4536 -> 138.08038 | BQ10: =IF($Q10<$W$122,BM10,(BM10-((BM10/$Q10)*($Q10-$W$122)))) -> 10623.909 | BR10: =IF($Q10<$W$122,BN10,(BN10-((BN10/$Q10)*($Q10-$W$122)))) -> 4819.0051 | BS10: =IF($R10<$X$122,BO10,(BO10-((BO10/$R10)*($R10-$X$122)))) -> 304.41 | BT10: =IF($R10<$X$122,BP10,(BP10-((BP10/$R10)*($R10-$X$122)))) -> 138.08038 | BU10: =IF((Y10+Z10+AD10+AE10=0),(BE10+PV($BY$2,$CB$2,-BH10,0,0)),"N/A") -> N/A | BV10: =((BE10/12.46)+BH10)/((AA10+AB10)/2) -> 2628.3706 | BW10: =IF($BM10>0,(($BE10+$BL10)/$BM10),0) -> 180.3411 | BX10: =IF($BM10>0,((PV($BY$2,$CB$2,-$BH10))/$BM10),0) -> 586.51718 | BY10: =BW10+BX10 -> 766.85829 | BZ10: =IF($BN10>0,(($BE10+$BL10)/$BN10),0) -> 397.57739 | CA10: =IF($BN10>0,((PV($BY$2,$CB$2,-$BH10))/$BN10),0) -> 1293.0273 | CB10: =BZ10+CA10 -> 1690.6047 | CC10: =IF($BO10>0,(($BE10+$BL10)/$BO10),0) -> 6293.9045 | CD10: =IF($BO10>0,((PV($BY$2,$CB$2,-$BH10))/$BO10),0) -> 20469.45 | CE10: =CC10+CD10 -> 26763.354 | CF10: =IF($BP10>0,(($BE10+$BL10)/$BP10),0) -> 13875.451 | CG10: =IF($BP10>0,((PV($BY$2,$CB$2,-$BH10))/$BP10),0) -> 45126.653 | CH10: =CF10+CG10 -> 59002.104 | CI10: =IF(Z10>0,((BC10+PV($BY$2,$CB$2,-BF10,0,0))/Z10),0) -> 9183.9154 | CJ10: =IF(Y10>0,((BD10+PV($BY$2,$CB$2,-BG10,0,0))/Y10),0) -> 30136.241 | CK10: =IF(AE10>0,((BC10+PV($BY$2,$CB$2,-BF10,0,0))/AE10),0) -> 311640.86 | CL10: =IF(AD10>0,((BD10+PV($BY$2,$CB$2,-BG10,0,0))/AD10),0) -> 1139149.9 | CM10: =IF($BQ10>0,(($BE10+$BL10)/$BQ10),0) -> 180.3411 | CN10: =IF($BQ10>0,((PV($BY$2,$CB$2,-$BH10))/$BQ10),0) -> 586.51718 | CO10: =CM10+CN10 -> 766.85829 | CP10: =IF($BR10>0,(($BE10+$BL10)/$BR10),0) -> 397.57739 | CQ10: =IF($BR10>0,((PV($BY$2,$CB$2,-$BH10))/$BR10),0) -> 1293.0273 | CR10: =CP10+CQ10 -> 1690.6047 | CS10: =IF($BS10>0,(($BE10+$BL10)/$BS10),0) -> 6293.9045 | CT10: =IF($BS10>0,((PV($BY$2,$CB$2,-$BH10))/$BS10),0) -> 20469.45 | CU10: =CS10+CT10 -> 26763.354 | CV10: =IF($BT10>0,(($BE10+$BL10)/$BT10),0) -> 13875.451 | CW10: =IF($BT10>0,((PV($BY$2,$CB$2,-$BH10))/$BT10),0) -> 45126.653 | CX10: =CV10+CW10 -> 59002.104 | CY10: ● Collection System ● Effluent Disposal ● Solids Collection, Treatment and Disposal | CZ10: Yes | DA10: No | DB10: 1 to 10 | DC10: Yes | DD10: ● Compact size with high nutrient removal efficiencies. | DE10: ● Require high energy and maintenance costs as these systems are generally constructed in greenhouses. ● Low phosphorus removal rates. | DF10: Yes | DG10: Yes | DH10: Unknown | DI10: Yes | DJ10: ● Periodic laboratory analysis of influent and effluent for nutrients, microbes, VOCs and other compounds. ● Periodic laboratory analysis of groundwater for nutrients, microbes, VOCs and other compounds. ● Periodic vegetative assessment. | DK10: $10,000 to $15,000 | DL10: ● 2 to 4 | DM10: ● Periodic laboratory analysis of influent and effluent for nutrients, microbes, VOCs and other compounds. ● Periodic laboratory analysis of groundwater for nutrients, microbes, VOCs and other compounds. ● Periodic vegetative assessment. | DN10: $2,500 to $5,000 | DO10: IP | DQ10: LINKS: Hydroponic Treatment | DR10: (1) Range of summary denitrification numbers provided by John Todd Ecological Design. LINK: http://www.toddecological.com/index.php?id=projects (2) Cost/gallon averaged from 3 living machine projects. EPA. Wastewater Technology Fact Sheet: Living Machines. 2002, LINK: https://19january2017snapshot.epa.gov/www3/npdes/www3/pubs/living_machine.pdf (3) Averaged mass reduction based on Nitrogen influent-effluent numbers provided for 4 Eco-machine projects and 890,000 gal/27,000 sq. ft. facility size provided by Todd Ecological Design. (4) Data based on 890,000 gal/day facility requiring 27,000 sq.ft (0.61 acres) by John Todd Ecological Design. (5) Data derived from South Burlington Living machine data only - 80,000 gpd system removed 5548 lbs of nitrogen/day at a capital cost of $1.7 million dollars, 0.14 acre site cost $70,625 to run annually, $70,625 annual O&M cost / 5,548 lbs of N removed / year, LINK: http://www.toddecological.com/data/uploads/casestudies/jtedcasestudy_southburlington.pdf (6) From Eco-Cities to Living Machines: Principles of Ecological Design, 1994, ISBN Paperback 9781556431500, LINK: https://www.northatlanticbooks.com/shop/from-eco-cities-to-living-machines/ | DS10: Past experience with these types of systems have required conventional denitrification filters on the back end to achieve desired TN limits. Also, energy costs are high since these are usually built in some type of greenhouse and need to maintain year round growing temperature and light conditions.
